BEGIN:VCALENDAR
VERSION:2.0
PRODID:-//Arkiv för Barn i Uppsala - ECPv5.1.6//NONSGML v1.0//EN
CALSCALE:GREGORIAN
METHOD:PUBLISH
X-WR-CALNAME:Arkiv för Barn i Uppsala
X-ORIGINAL-URL:https://arkiv.barniuppsala.se
X-WR-CALDESC:Händelser för Arkiv för Barn i Uppsala
BEGIN:VTIMEZONE
TZID:Europe/Stockholm
BEGIN:DAYLIGHT
TZOFFSETFROM:+0100
TZOFFSETTO:+0200
TZNAME:CEST
DTSTART:20180325T010000
END:DAYLIGHT
BEGIN:STANDARD
TZOFFSETFROM:+0200
TZOFFSETTO:+0100
TZNAME:CET
DTSTART:20181028T010000
END:STANDARD
END:VTIMEZONE
BEGIN:VEVENT
DTSTART;TZID=Europe/Stockholm:20181111T120000
DTEND;TZID=Europe/Stockholm:20181111T160000
DTSTAMP:20260419T155530
CREATED:20181108T002243Z
LAST-MODIFIED:20181108T002243Z
UID:26571-1541937600-1541952000@arkiv.barniuppsala.se
SUMMARY:Museidag på Pumphuset - en resa till en mer hållbar värld!
DESCRIPTION:Museidag på Pumphuset – en resa till en mer hållbar värld!\nPumphuset gömmer många resor\, i material som återvinns\, i vattendroppen som färdas från källa till dig och tillbaka till naturen. Vi reser från en annan tids vanor och mönster till en mer hållbar värld. Kanske en del av den resan sker kollektivt\, med biogasbuss? \nDatum: Söndagen den 11 november 2018\nTid: 12.00–16.00\nPlats: Pumphuset\, Munkgatan 2\, Uppsala\nPris: Gratis \n  \n\n\nOm Museidagen 2018\nPå Fars dag den 11 november bjuder Uppsalas museer in till årets upplaga av Museidagen med verkstäder\, föredrag\, film\, modevisning\, mynt och mycket mer. Många av Uppsalas museer håller öppet från kl 12-16. Det gemensamma temat för dagen är resor – långa och korta\, i tid och rum\, i rymden och i konsten. \nDet bjuds på massor av aktiviteter för alla åldrar där man bland annat kan bekanta sig med beresta föremål från när och fjärran. På Evolutionsmuseet kan du gå på fossiljakt och på Biotopia lär man sig känna igen spår av rovdjur. Gamla Uppsala museum bjuder på en resa genom tusen år av klädmode och i Bror Hjorths Hus skapar Sara Lundbergs konst egna vägar och världar i verkstaden. \nUpplandsmuseet gör en tidsresa till vikingatiden med föredrag om runstenar\, verkstad och visning och i Domkyrkan uppmärksammas bland annat pilgrimsresor. I Botaniska trädgården firas botanisten\, japanresenären och linneanen Carl Peter Thunberg och du får veta mer om olika exotiska växter och deras upptäckare. \nMuseidagen arrangeras av Uppsalamuseernas Informationsförening\, ett samarbetsorgan för museernas informatörer och marknadsförare med syfte att sprida kunskap och information om Uppsalas tjugo museer. \n  \n\n\n\nBesök gärna länkarna nedan (externa länkar öppnas i nytt fönster/flik).\nUppsalas Museer | Pumphuset | Fler aktiviteter under Museidagen 2018 \n\nFoto: Arild Vågen via Wikimedia Commons (CC-BY-SA) \n0SHARESDela eventet
URL:https://arkiv.barniuppsala.se/event/museidag-pumphuset-2018/
LOCATION:Pumphuset\, Munkgatan 2\, Uppsala\, 75309
CATEGORIES:Barn,Familj,Kunskap och Lärande,Museidagen,Museum,Samhälle,Ungdom,Utställning
ATTACH;FMTTYPE=image/jpeg:https://arkiv.barniuppsala.se/wp-content/uploads/2018/11/1024px-Pumphuset_April_2013_02-e1541635534130.jpg
ORGANIZER;CN="Uppsala%20vatten":MAILTO:uppsalavatten@uppsalavatten.se
GEO:59.8547321;17.6406278
X-APPLE-STRUCTURED-LOCATION;VALUE=URI;X-ADDRESS=Pumphuset Munkgatan 2 Uppsala 75309;X-APPLE-RADIUS=500;X-TITLE=Munkgatan 2:geo:17.6406278,59.8547321
END:VEVENT
END:VCALENDAR