BEGIN:VCALENDAR
VERSION:2.0
PRODID:-//Arkiv för Barn i Uppsala - ECPv5.1.6//NONSGML v1.0//EN
CALSCALE:GREGORIAN
METHOD:PUBLISH
X-WR-CALNAME:Arkiv för Barn i Uppsala
X-ORIGINAL-URL:https://arkiv.barniuppsala.se
X-WR-CALDESC:Händelser för Arkiv för Barn i Uppsala
BEGIN:VTIMEZONE
TZID:Europe/Stockholm
BEGIN:DAYLIGHT
TZOFFSETFROM:+0100
TZOFFSETTO:+0200
TZNAME:CEST
DTSTART:20160327T010000
END:DAYLIGHT
BEGIN:STANDARD
TZOFFSETFROM:+0200
TZOFFSETTO:+0100
TZNAME:CET
DTSTART:20161030T010000
END:STANDARD
END:VTIMEZONE
BEGIN:VEVENT
DTSTART;TZID=Europe/Stockholm:20161113T120000
DTEND;TZID=Europe/Stockholm:20161113T160000
DTSTAMP:20260420T144547
CREATED:20161107T120753Z
LAST-MODIFIED:20161107T120951Z
UID:9212-1479038400-1479052800@arkiv.barniuppsala.se
SUMMARY:Museidagen på Gustavianum
DESCRIPTION:Uppsalas museer slår upp portarna för en gemensam temadag. Ta med far på en museitur och upplev olika ljusexpriment! \nLjusverkstad \nLjusexperiment med 3D-glasögon\, artificiella regnbågar och skuggfigurer för hela familjen. \nBarnen ska få göra egna 3D glasögon och pyssla till dem med färgpennor och paljetter. \nSedan får de testa att kolla på en 3D film för att se ifall glasögonen fungerar. \nUnder dagen kan man även få göra regnbågar med hjälp av en lampa och en CD-skiva. \nDet är ett väldigt lätt pyssel som blir riktigt fint! Med våra studentguider ska barnen också få göra en egen teater med skuggfigurer\, det enda som krävs är fantasi\, en lampa och ett par händer! \nDet kommer även finnas tips på vilka figurer man kan göra. \nFri entre\, inge kostnad \nKontaktperson: Cecilia Ödman \n  \n\n 0SHARESDela eventet
URL:https://arkiv.barniuppsala.se/event/museidagen-pa-gustavianum/
LOCATION:Museum Gustavianum\, Akademigatan 3\, Uppsala\, 753 10\, Sverige
CATEGORIES:Höstlov,Teater
ATTACH;FMTTYPE=image/jpeg:https://arkiv.barniuppsala.se/wp-content/uploads/2016/11/gustaviuam-museum.jpg
GEO:59.8579596;17.6318354
X-APPLE-STRUCTURED-LOCATION;VALUE=URI;X-ADDRESS=Museum Gustavianum Akademigatan 3 Uppsala 753 10 Sverige;X-APPLE-RADIUS=500;X-TITLE=Akademigatan 3:geo:17.6318354,59.8579596
END:VEVENT
END:VCALENDAR