BEGIN:VCALENDAR
VERSION:2.0
PRODID:-//Arkiv för Barn i Uppsala - ECPv5.1.6//NONSGML v1.0//EN
CALSCALE:GREGORIAN
METHOD:PUBLISH
X-WR-CALNAME:Arkiv för Barn i Uppsala
X-ORIGINAL-URL:https://arkiv.barniuppsala.se
X-WR-CALDESC:Händelser för Arkiv för Barn i Uppsala
BEGIN:VTIMEZONE
TZID:Europe/Stockholm
BEGIN:DAYLIGHT
TZOFFSETFROM:+0100
TZOFFSETTO:+0200
TZNAME:CEST
DTSTART:20170326T010000
END:DAYLIGHT
BEGIN:STANDARD
TZOFFSETFROM:+0200
TZOFFSETTO:+0100
TZNAME:CET
DTSTART:20171029T010000
END:STANDARD
END:VTIMEZONE
BEGIN:VEVENT
DTSTART;TZID=Europe/Stockholm:20170201T170000
DTEND;TZID=Europe/Stockholm:20170201T180000
DTSTAMP:20260420T182220
CREATED:20170125T135500Z
LAST-MODIFIED:20170130T114308Z
UID:10501-1485968400-1485972000@arkiv.barniuppsala.se
SUMMARY:Musikjam för ungdomar
DESCRIPTION:Ungdomar är varmt välkomna i Salabackekyrkan. Musikjam är för ungdomar som vill lära sig/prova på gitarr\, bas\, trummor eller sång. \nLedare Anders Emtell\, 018-430 37 37. \nIngen föranmälan. \n  \nBild från pixabay.com \n0SHARESDela eventet
URL:https://arkiv.barniuppsala.se/event/musikjam-for-ungdomar/
LOCATION:Salabackekyrkan\, Lästmakargatan 7B\, Uppsala\, 754 34\, Sverige
CATEGORIES:Lärande lek,Prova på,Sång och Musik,Teater och Bio,Ungdom
ATTACH;FMTTYPE=image/jpeg:https://arkiv.barniuppsala.se/wp-content/uploads/2017/01/music-594952_960_720.jpg
GEO:59.8689818;17.6677928
X-APPLE-STRUCTURED-LOCATION;VALUE=URI;X-ADDRESS=Salabackekyrkan Lästmakargatan 7B Uppsala 754 34 Sverige;X-APPLE-RADIUS=500;X-TITLE=Lästmakargatan 7B:geo:17.6677928,59.8689818
END:VEVENT
END:VCALENDAR