BEGIN:VCALENDAR
VERSION:2.0
PRODID:-//Arkiv för Barn i Uppsala - ECPv5.1.6//NONSGML v1.0//EN
CALSCALE:GREGORIAN
METHOD:PUBLISH
X-WR-CALNAME:Arkiv för Barn i Uppsala
X-ORIGINAL-URL:https://arkiv.barniuppsala.se
X-WR-CALDESC:Händelser för Arkiv för Barn i Uppsala
BEGIN:VTIMEZONE
TZID:Europe/Stockholm
BEGIN:DAYLIGHT
TZOFFSETFROM:+0100
TZOFFSETTO:+0200
TZNAME:CEST
DTSTART:20160327T010000
END:DAYLIGHT
BEGIN:STANDARD
TZOFFSETFROM:+0200
TZOFFSETTO:+0100
TZNAME:CET
DTSTART:20161030T010000
END:STANDARD
END:VTIMEZONE
BEGIN:VEVENT
DTSTART;TZID=Europe/Stockholm:20161130T100000
DTEND;TZID=Europe/Stockholm:20161130T104500
DTSTAMP:20260421T022253
CREATED:20161107T094112Z
LAST-MODIFIED:20161128T083635Z
UID:9140-1480500000-1480502700@arkiv.barniuppsala.se
SUMMARY:Musikmums Tomteäventyr
DESCRIPTION:Musikmums Tomteäventyr i Aktivitetsrummet på Knivsta bibliotek. För barn 3-5 år.\nMed musik och rörelse får du följa med tomtenissarna på äventyr i den förtrollade skogen. \nGenom sång\, musik och rörelse förstärker Musikmums barnens fantasi- och känsloutveckling och vill inspirera till fortsatt lek och musicerande.\nAktiviteten är ca 45 minuter lång och leds av musikpedagog Paula Ekström. \nFöranmälan för förskolegrupper: tove.frankow-crivellaro@knivsta.se \nOnsdag 30 november kl 10.00-10.45 \n  \nBild: pixabay.com. \n0SHARESDela eventet
URL:https://arkiv.barniuppsala.se/event/musikmums-tomteaventyr/
LOCATION:Knivsta bibliotek\, Centralvägen 18\, Knivsta\, 741 40\, Sverige
CATEGORIES:Bibliotek,Teater och Bio
ATTACH;FMTTYPE=image/jpeg:https://arkiv.barniuppsala.se/wp-content/uploads/2016/11/mosstroll.jpg
ORGANIZER;CN="Knivsta%20Bibliotek":MAILTO:kristina.vikstrom@knivsta.se
GEO:59.7276856;17.7857663
X-APPLE-STRUCTURED-LOCATION;VALUE=URI;X-ADDRESS=Knivsta bibliotek Centralvägen 18 Knivsta 741 40 Sverige;X-APPLE-RADIUS=500;X-TITLE=Centralvägen 18:geo:17.7857663,59.7276856
END:VEVENT
END:VCALENDAR