BEGIN:VCALENDAR
VERSION:2.0
PRODID:-//Arkiv för Barn i Uppsala - ECPv5.1.6//NONSGML v1.0//EN
CALSCALE:GREGORIAN
METHOD:PUBLISH
X-WR-CALNAME:Arkiv för Barn i Uppsala
X-ORIGINAL-URL:https://arkiv.barniuppsala.se
X-WR-CALDESC:Händelser för Arkiv för Barn i Uppsala
BEGIN:VTIMEZONE
TZID:Europe/Stockholm
BEGIN:DAYLIGHT
TZOFFSETFROM:+0100
TZOFFSETTO:+0200
TZNAME:CEST
DTSTART:20150329T010000
END:DAYLIGHT
BEGIN:STANDARD
TZOFFSETFROM:+0200
TZOFFSETTO:+0100
TZNAME:CET
DTSTART:20151025T010000
END:STANDARD
END:VTIMEZONE
BEGIN:VEVENT
DTSTART;TZID=Europe/Stockholm:20151217T190000
DTEND;TZID=Europe/Stockholm:20151215T170000
DTSTAMP:20260419T194005
CREATED:20151215T185007Z
LAST-MODIFIED:20151215T185007Z
UID:4689-1450378800-1450198800@arkiv.barniuppsala.se
SUMMARY:Musikskolans konsert
DESCRIPTION:Konsert med Uppsala Paradorkester och Uppsala musikskolas kammarorkester. \nTorsdag 17 december kl. 19.00 i Nannaskolans aula. \nFritt inträde. Välkomna! \nBild: skola.uppsala.se. \n0SHARESDela eventet
URL:https://arkiv.barniuppsala.se/event/musikskolans-konsert/
LOCATION:Nannaskolan\, Kungsgatan 24\, Uppsala\, 753 21
CATEGORIES:Jul,Teater och Bio
ATTACH;FMTTYPE=image/jpeg:https://arkiv.barniuppsala.se/wp-content/uploads/2015/12/musikskolan.jpg
GEO:59.8616782;17.6384462
X-APPLE-STRUCTURED-LOCATION;VALUE=URI;X-ADDRESS=Nannaskolan Kungsgatan 24 Uppsala 753 21;X-APPLE-RADIUS=500;X-TITLE=Kungsgatan 24:geo:17.6384462,59.8616782
END:VEVENT
END:VCALENDAR