BEGIN:VCALENDAR
VERSION:2.0
PRODID:-//Arkiv för Barn i Uppsala - ECPv5.1.6//NONSGML v1.0//EN
CALSCALE:GREGORIAN
METHOD:PUBLISH
X-WR-CALNAME:Arkiv för Barn i Uppsala
X-ORIGINAL-URL:https://arkiv.barniuppsala.se
X-WR-CALDESC:Händelser för Arkiv för Barn i Uppsala
BEGIN:VTIMEZONE
TZID:Europe/Stockholm
BEGIN:DAYLIGHT
TZOFFSETFROM:+0100
TZOFFSETTO:+0200
TZNAME:CEST
DTSTART:20150329T010000
END:DAYLIGHT
BEGIN:STANDARD
TZOFFSETFROM:+0200
TZOFFSETTO:+0100
TZNAME:CET
DTSTART:20151025T010000
END:STANDARD
END:VTIMEZONE
BEGIN:VEVENT
DTSTART;TZID=Europe/Stockholm:20150912T190000
DTEND;TZID=Europe/Stockholm:20150912T210000
DTSTAMP:20260419T150352
CREATED:20150908T105918Z
LAST-MODIFIED:20150908T105918Z
UID:3647-1442084400-1442091600@arkiv.barniuppsala.se
SUMMARY:Nannaskolans kulturbomb
DESCRIPTION:Den 12 september är det Uppsala Kulturnatt. Nannaskolan är förstås med! Programmet startar kl 18 samt kl 19 och bjuder på en blandning av estetiska uttryck. Upplev dramatik\, ton\, takt och rörelse. \n0SHARESDela eventet
URL:https://arkiv.barniuppsala.se/event/nannaskolans-kulturbomb/
LOCATION:Nannaskolan\, Kungsgatan 24\, Uppsala\, 753 21
CATEGORIES:Teater och Bio
ATTACH;FMTTYPE=image/jpeg:https://arkiv.barniuppsala.se/wp-content/uploads/2015/07/Barn-fri-att-använda-liten-e1464603753682.jpg
GEO:59.8616782;17.6384462
X-APPLE-STRUCTURED-LOCATION;VALUE=URI;X-ADDRESS=Nannaskolan Kungsgatan 24 Uppsala 753 21;X-APPLE-RADIUS=500;X-TITLE=Kungsgatan 24:geo:17.6384462,59.8616782
END:VEVENT
END:VCALENDAR