BEGIN:VCALENDAR
VERSION:2.0
PRODID:-//Arkiv för Barn i Uppsala - ECPv5.1.6//NONSGML v1.0//EN
CALSCALE:GREGORIAN
METHOD:PUBLISH
X-WR-CALNAME:Arkiv för Barn i Uppsala
X-ORIGINAL-URL:https://arkiv.barniuppsala.se
X-WR-CALDESC:Händelser för Arkiv för Barn i Uppsala
BEGIN:VTIMEZONE
TZID:Europe/Stockholm
BEGIN:DAYLIGHT
TZOFFSETFROM:+0100
TZOFFSETTO:+0200
TZNAME:CEST
DTSTART:20160327T010000
END:DAYLIGHT
BEGIN:STANDARD
TZOFFSETFROM:+0200
TZOFFSETTO:+0100
TZNAME:CET
DTSTART:20161030T010000
END:STANDARD
END:VTIMEZONE
BEGIN:VEVENT
DTSTART;TZID=Europe/Stockholm:20160317T090000
DTEND;TZID=Europe/Stockholm:20160317T120000
DTSTAMP:20260420T142809
CREATED:20160314T131111Z
LAST-MODIFIED:20160314T131111Z
UID:6384-1458205200-1458216000@arkiv.barniuppsala.se
SUMMARY:Öppen förskola i Årstakyrkan
DESCRIPTION:Öppen förskola i Årstakyrkan torsdag-fredag 17-18 mars kl 9-12. \nBarnen får leka med varandra\, man pysslar\, umgås och sjunger tillsammans.\nVerksamheten vänder sig till barn 0-5 år tillsammans med en vuxen.\nIngen föranmälan\, ingen avgift. Fika finns till självkostnadspris. \nBild: pixabay.com. \n0SHARESDela eventet
URL:https://arkiv.barniuppsala.se/event/oppen-forskola-i-arstakyrkan/2016-03-17/
LOCATION:Årstakyrkan\, Sparrisgatan 9\, Uppsala\, 75446\, Sverige
CATEGORIES:Lärande lek,Pyssel,Sagostund – barn
ATTACH;FMTTYPE=image/png:https://arkiv.barniuppsala.se/wp-content/uploads/2016/03/barnlek.png
GEO:59.8660391;17.6857328
X-APPLE-STRUCTURED-LOCATION;VALUE=URI;X-ADDRESS=Årstakyrkan Sparrisgatan 9 Uppsala 75446 Sverige;X-APPLE-RADIUS=500;X-TITLE=Sparrisgatan 9:geo:17.6857328,59.8660391
END:VEVENT
END:VCALENDAR