BEGIN:VCALENDAR
VERSION:2.0
PRODID:-//Arkiv för Barn i Uppsala - ECPv5.1.6//NONSGML v1.0//EN
CALSCALE:GREGORIAN
METHOD:PUBLISH
X-WR-CALNAME:Arkiv för Barn i Uppsala
X-ORIGINAL-URL:https://arkiv.barniuppsala.se
X-WR-CALDESC:Händelser för Arkiv för Barn i Uppsala
BEGIN:VTIMEZONE
TZID:Europe/Stockholm
BEGIN:DAYLIGHT
TZOFFSETFROM:+0100
TZOFFSETTO:+0200
TZNAME:CEST
DTSTART:20160327T010000
END:DAYLIGHT
BEGIN:STANDARD
TZOFFSETFROM:+0200
TZOFFSETTO:+0100
TZNAME:CET
DTSTART:20161030T010000
END:STANDARD
END:VTIMEZONE
BEGIN:VEVENT
DTSTART;TZID=Europe/Stockholm:20160415T100000
DTEND;TZID=Europe/Stockholm:20160415T123000
DTSTAMP:20260420T111828
CREATED:20160412T083639Z
LAST-MODIFIED:20160412T083639Z
UID:6763-1460714400-1460723400@arkiv.barniuppsala.se
SUMMARY:Öppen Förskola i Tunabergskyrkan
DESCRIPTION:Öppen Förskola i Tunabergskyrkan fredag 15 april kl 9-11.30. \nVälkommen till en mötesplats för barn i sällskap med vuxen.\nNi kan leka\, umgås\, pyssla\, skapa och sjunga. Ingen föranmälan\, bara att dyka upp! \nFika finns till självkostnadspris. \nBild: pixabay.com. \n0SHARESDela eventet
URL:https://arkiv.barniuppsala.se/event/oppen-forskola-tunabergskyrkan/
LOCATION:Tunabergskyrkan\, Tunagatan 29\, Uppsala\, 753 37\, Sverige
ATTACH;FMTTYPE=image/jpeg:https://arkiv.barniuppsala.se/wp-content/uploads/2016/04/barn.jpg
GEO:59.8781945;17.6193982
X-APPLE-STRUCTURED-LOCATION;VALUE=URI;X-ADDRESS=Tunabergskyrkan Tunagatan 29 Uppsala 753 37 Sverige;X-APPLE-RADIUS=500;X-TITLE=Tunagatan 29:geo:17.6193982,59.8781945
END:VEVENT
END:VCALENDAR