BEGIN:VCALENDAR
VERSION:2.0
PRODID:-//Arkiv för Barn i Uppsala - ECPv5.1.6//NONSGML v1.0//EN
CALSCALE:GREGORIAN
METHOD:PUBLISH
X-WR-CALNAME:Arkiv för Barn i Uppsala
X-ORIGINAL-URL:https://arkiv.barniuppsala.se
X-WR-CALDESC:Händelser för Arkiv för Barn i Uppsala
BEGIN:VTIMEZONE
TZID:Europe/Stockholm
BEGIN:DAYLIGHT
TZOFFSETFROM:+0100
TZOFFSETTO:+0200
TZNAME:CEST
DTSTART:20150329T010000
END:DAYLIGHT
BEGIN:STANDARD
TZOFFSETFROM:+0200
TZOFFSETTO:+0100
TZNAME:CET
DTSTART:20151025T010000
END:STANDARD
END:VTIMEZONE
BEGIN:VEVENT
DTSTART;TZID=Europe/Stockholm:20150930T160000
DTEND;TZID=Europe/Stockholm:20150930T170000
DTSTAMP:20260421T112407
CREATED:20150902T072946Z
LAST-MODIFIED:20150922T071950Z
UID:3499-1443628800-1443632400@arkiv.barniuppsala.se
SUMMARY:Öppen mangaverkstad
DESCRIPTION:Var med på Öppen Mangaverkstad. \nTeckna manga och berätta i bild med Synnöve Gahrén. \nFör 9-14 åringar. Ingen föranmälan behövs och det är gratis. \n0SHARESDela eventet
URL:https://arkiv.barniuppsala.se/event/oppen-mangaverkstad-2/
LOCATION:Stenhagenbiblioteket\, Herrhagsvägen 8\, Uppsala\, 752 67 
CATEGORIES:Kunskap och Lärande
ATTACH;FMTTYPE=image/jpeg:https://arkiv.barniuppsala.se/wp-content/uploads/2015/08/manga.jpg
GEO:59.8505374;17.5582115
X-APPLE-STRUCTURED-LOCATION;VALUE=URI;X-ADDRESS=Stenhagenbiblioteket Herrhagsvägen 8 Uppsala 752 67;X-APPLE-RADIUS=500;X-TITLE=Herrhagsvägen 8:geo:17.5582115,59.8505374
END:VEVENT
END:VCALENDAR