BEGIN:VCALENDAR
VERSION:2.0
PRODID:-//Arkiv för Barn i Uppsala - ECPv5.1.6//NONSGML v1.0//EN
CALSCALE:GREGORIAN
METHOD:PUBLISH
X-WR-CALNAME:Arkiv för Barn i Uppsala
X-ORIGINAL-URL:https://arkiv.barniuppsala.se
X-WR-CALDESC:Händelser för Arkiv för Barn i Uppsala
BEGIN:VTIMEZONE
TZID:Europe/Stockholm
BEGIN:DAYLIGHT
TZOFFSETFROM:+0100
TZOFFSETTO:+0200
TZNAME:CEST
DTSTART:20160327T010000
END:DAYLIGHT
BEGIN:STANDARD
TZOFFSETFROM:+0200
TZOFFSETTO:+0100
TZNAME:CET
DTSTART:20161030T010000
END:STANDARD
END:VTIMEZONE
BEGIN:VEVENT
DTSTART;TZID=Europe/Stockholm:20160325T120000
DTEND;TZID=Europe/Stockholm:20160325T150000
DTSTAMP:20260421T222441
CREATED:20160318T132620Z
LAST-MODIFIED:20160318T132620Z
UID:6495-1458907200-1458918000@arkiv.barniuppsala.se
SUMMARY:Öppet bruk
DESCRIPTION:Strömsbergs bruk med alla museer och kulturbyggnader håller öppet. \n0SHARESDela eventet
URL:https://arkiv.barniuppsala.se/event/oppet-bruk/2016-03-25/
LOCATION:Strömsbergs bruk\, Granhagsvägen 13\, Strömsberg\, 81596
CATEGORIES:Motor,Museum
ATTACH;FMTTYPE=image/jpeg:https://arkiv.barniuppsala.se/wp-content/uploads/2016/03/Kugghjul.jpg
GEO:60.4013801;17.5754927
X-APPLE-STRUCTURED-LOCATION;VALUE=URI;X-ADDRESS=Strömsbergs bruk Granhagsvägen 13 Strömsberg 81596;X-APPLE-RADIUS=500;X-TITLE=Granhagsvägen 13:geo:17.5754927,60.4013801
END:VEVENT
END:VCALENDAR