BEGIN:VCALENDAR
VERSION:2.0
PRODID:-//Arkiv för Barn i Uppsala - ECPv5.1.6//NONSGML v1.0//EN
CALSCALE:GREGORIAN
METHOD:PUBLISH
X-WR-CALNAME:Arkiv för Barn i Uppsala
X-ORIGINAL-URL:https://arkiv.barniuppsala.se
X-WR-CALDESC:Händelser för Arkiv för Barn i Uppsala
BEGIN:VTIMEZONE
TZID:Europe/Stockholm
BEGIN:DAYLIGHT
TZOFFSETFROM:+0100
TZOFFSETTO:+0200
TZNAME:CEST
DTSTART:20160327T010000
END:DAYLIGHT
BEGIN:STANDARD
TZOFFSETFROM:+0200
TZOFFSETTO:+0100
TZNAME:CET
DTSTART:20161030T010000
END:STANDARD
END:VTIMEZONE
BEGIN:VEVENT
DTSTART;TZID=Europe/Stockholm:20160324T130000
DTEND;TZID=Europe/Stockholm:20160324T160000
DTSTAMP:20260421T173829
CREATED:20160318T113949Z
LAST-MODIFIED:20160318T113949Z
UID:6479-1458824400-1458835200@arkiv.barniuppsala.se
SUMMARY:Påskäggsorientering vid Uppsala slott
DESCRIPTION:Den årliga påskäggsorienteringen vid Uppsala slott. Start och mål vid Thorarnas IP strax söder om slottet. \n0SHARESDela eventet
URL:https://arkiv.barniuppsala.se/event/paskaggsorientering-vid-uppsala-slott/
LOCATION:Uppsala slott\, Slottet\, Uppsala\, 752 37\, Sverige
CATEGORIES:Påsklov
ATTACH;FMTTYPE=image/jpeg:https://arkiv.barniuppsala.se/wp-content/uploads/2016/03/Fjäder.jpg
GEO:59.8536282;17.6355653
X-APPLE-STRUCTURED-LOCATION;VALUE=URI;X-ADDRESS=Uppsala slott Slottet Uppsala 752 37 Sverige;X-APPLE-RADIUS=500;X-TITLE=Slottet:geo:17.6355653,59.8536282
END:VEVENT
END:VCALENDAR