BEGIN:VCALENDAR
VERSION:2.0
PRODID:-//Arkiv för Barn i Uppsala - ECPv5.1.6//NONSGML v1.0//EN
CALSCALE:GREGORIAN
METHOD:PUBLISH
X-WR-CALNAME:Arkiv för Barn i Uppsala
X-ORIGINAL-URL:https://arkiv.barniuppsala.se
X-WR-CALDESC:Händelser för Arkiv för Barn i Uppsala
BEGIN:VTIMEZONE
TZID:Europe/Stockholm
BEGIN:DAYLIGHT
TZOFFSETFROM:+0100
TZOFFSETTO:+0200
TZNAME:CEST
DTSTART:20170326T010000
END:DAYLIGHT
BEGIN:STANDARD
TZOFFSETFROM:+0200
TZOFFSETTO:+0100
TZNAME:CET
DTSTART:20171029T010000
END:STANDARD
END:VTIMEZONE
BEGIN:VEVENT
DTSTART;TZID=Europe/Stockholm:20170412T140000
DTEND;TZID=Europe/Stockholm:20170412T160000
DTSTAMP:20260422T194931
CREATED:20170329T084420Z
LAST-MODIFIED:20170410T095804Z
UID:12149-1492005600-1492012800@arkiv.barniuppsala.se
SUMMARY:Påskkortsverkstad
DESCRIPTION:Besök Sävjabiblioteket den 12 april där man får göra sina egna påskkort. \nDu kommer att kunna klistra\, måla och klippa. \nMindre barn kan behöva vuxet sällskap. \nSå besök Sävjabiblioteket den 12 april! \n  \nBilden hämtad från bibliotekuppsala.se  \n0SHARESDela eventet
URL:https://arkiv.barniuppsala.se/event/paskkortsverkstad/
LOCATION:Sävjabiblioteket\, Västgötaresan\, Uppsala\, 757 54\, Sverige
CATEGORIES:Barn,Bibliotek,Påsklov
ATTACH;FMTTYPE=image/jpeg:https://arkiv.barniuppsala.se/wp-content/uploads/2017/03/Ångströmlaboratoriet.jpg
ORGANIZER;CN="Bibliotek%20Uppsala":MAILTO:kundtjanst@bibliotekuppsala.se
GEO:59.8085971;17.7022024
X-APPLE-STRUCTURED-LOCATION;VALUE=URI;X-ADDRESS=Sävjabiblioteket Västgötaresan Uppsala 757 54 Sverige;X-APPLE-RADIUS=500;X-TITLE=Västgötaresan:geo:17.7022024,59.8085971
END:VEVENT
END:VCALENDAR