BEGIN:VCALENDAR
VERSION:2.0
PRODID:-//Arkiv för Barn i Uppsala - ECPv5.1.6//NONSGML v1.0//EN
CALSCALE:GREGORIAN
METHOD:PUBLISH
X-WR-CALNAME:Arkiv för Barn i Uppsala
X-ORIGINAL-URL:https://arkiv.barniuppsala.se
X-WR-CALDESC:Händelser för Arkiv för Barn i Uppsala
BEGIN:VTIMEZONE
TZID:Europe/Stockholm
BEGIN:DAYLIGHT
TZOFFSETFROM:+0100
TZOFFSETTO:+0200
TZNAME:CEST
DTSTART:20170326T010000
END:DAYLIGHT
BEGIN:STANDARD
TZOFFSETFROM:+0200
TZOFFSETTO:+0100
TZNAME:CET
DTSTART:20171029T010000
END:STANDARD
END:VTIMEZONE
BEGIN:VEVENT
DTSTART;TZID=Europe/Stockholm:20170411T140000
DTEND;TZID=Europe/Stockholm:20170411T150000
DTSTAMP:20260423T044513
CREATED:20170224T120205Z
LAST-MODIFIED:20170406T082520Z
UID:11473-1491919200-1491922800@arkiv.barniuppsala.se
SUMMARY:Påsklov: Äventyr - sagorollspel
DESCRIPTION:Äventyr – sagorollspel\nVill du vara en äventyrare\, prinsessa\, tomte eller alv? Följ med på ett spännande äventyr där du är hjälten! \nFör dig som är 7-9 år. Föranmälan till: tove.frankow-crivellaro@knivsta.se \n\nPlats: Aktivitetsrummet\, Knivsta biblioteket\n\n\n\n\nFoto: pixabay.com\n\n  \n\n 0SHARESDela eventet
URL:https://arkiv.barniuppsala.se/event/pasklov-aventyr-sagorollspel/
LOCATION:Knivsta bibliotek\, Centralvägen 18\, Knivsta\, 741 40\, Sverige
CATEGORIES:Barn,Bibliotek,Lärande lek,Påsklov
ATTACH;FMTTYPE=image/jpeg:https://arkiv.barniuppsala.se/wp-content/uploads/2017/02/fantasy-782001_640.jpg
ORGANIZER;CN="Knivsta%20Bibliotek":MAILTO:kristina.vikstrom@knivsta.se
GEO:59.7276856;17.7857663
X-APPLE-STRUCTURED-LOCATION;VALUE=URI;X-ADDRESS=Knivsta bibliotek Centralvägen 18 Knivsta 741 40 Sverige;X-APPLE-RADIUS=500;X-TITLE=Centralvägen 18:geo:17.7857663,59.7276856
END:VEVENT
END:VCALENDAR