BEGIN:VCALENDAR
VERSION:2.0
PRODID:-//Arkiv för Barn i Uppsala - ECPv5.1.6//NONSGML v1.0//EN
CALSCALE:GREGORIAN
METHOD:PUBLISH
X-WR-CALNAME:Arkiv för Barn i Uppsala
X-ORIGINAL-URL:https://arkiv.barniuppsala.se
X-WR-CALDESC:Händelser för Arkiv för Barn i Uppsala
BEGIN:VTIMEZONE
TZID:Europe/Stockholm
BEGIN:DAYLIGHT
TZOFFSETFROM:+0100
TZOFFSETTO:+0200
TZNAME:CEST
DTSTART:20160327T010000
END:DAYLIGHT
BEGIN:STANDARD
TZOFFSETFROM:+0200
TZOFFSETTO:+0100
TZNAME:CET
DTSTART:20161030T010000
END:STANDARD
END:VTIMEZONE
BEGIN:VEVENT
DTSTART;VALUE=DATE:20160326
DTEND;VALUE=DATE:20160401
DTSTAMP:20260422T015355
CREATED:20160311T103724Z
LAST-MODIFIED:20160311T103724Z
UID:6370-1458961200-1459396799@arkiv.barniuppsala.se
SUMMARY:Påsklov på Museum Gustavianum
DESCRIPTION:Vi äggxperimenterar och lär oss mer om fysik och kemi samtidigt som vi får roliga idéer om vad vi kan göra med ägg förutom att äta dem. Ta gärna också med egna ägg som ni kan måla och pyssla med. \n26\, 27\, 29 och 30 mars klockan 14 till 16         \nOBS! Evenemanget arrangeras ej mån 28 mars. \nPlats: Museum Gustavianum \nEntréavgifter\nVuxna: 50 kronor\nPersonal och studenter vid Uppsala universitet: Gratis\nStudenter vid andra lärosäten och pensionärer: 40 kronor\nBarn under 12 år i målsmans sällskap: Gratis \n0SHARESDela eventet
URL:https://arkiv.barniuppsala.se/event/pasklov-pa-museum-gustavianum/
LOCATION:Museum Gustavianum\, Akademigatan 3\, Uppsala\, 753 10\, Sverige
CATEGORIES:Kunskap och Lärande,Museum,Påsklov
ATTACH;FMTTYPE=image/jpeg:https://arkiv.barniuppsala.se/wp-content/uploads/2016/03/Gustavianum_front_view-e1457692581572.jpg
GEO:59.8579596;17.6318354
X-APPLE-STRUCTURED-LOCATION;VALUE=URI;X-ADDRESS=Museum Gustavianum Akademigatan 3 Uppsala 753 10 Sverige;X-APPLE-RADIUS=500;X-TITLE=Akademigatan 3:geo:17.6318354,59.8579596
END:VEVENT
END:VCALENDAR