BEGIN:VCALENDAR
VERSION:2.0
PRODID:-//Arkiv för Barn i Uppsala - ECPv5.1.6//NONSGML v1.0//EN
CALSCALE:GREGORIAN
METHOD:PUBLISH
X-WR-CALNAME:Arkiv för Barn i Uppsala
X-ORIGINAL-URL:https://arkiv.barniuppsala.se
X-WR-CALDESC:Händelser för Arkiv för Barn i Uppsala
BEGIN:VTIMEZONE
TZID:Europe/Stockholm
BEGIN:DAYLIGHT
TZOFFSETFROM:+0100
TZOFFSETTO:+0200
TZNAME:CEST
DTSTART:20160327T010000
END:DAYLIGHT
BEGIN:STANDARD
TZOFFSETFROM:+0200
TZOFFSETTO:+0100
TZNAME:CET
DTSTART:20161030T010000
END:STANDARD
END:VTIMEZONE
BEGIN:VEVENT
DTSTART;TZID=Europe/Stockholm:20160324T120000
DTEND;TZID=Europe/Stockholm:20160324T160000
DTSTAMP:20260421T192354
CREATED:20160318T113632Z
LAST-MODIFIED:20160318T113632Z
UID:6472-1458820800-1458835200@arkiv.barniuppsala.se
SUMMARY:Påsklovskul på Gamla Uppsala Museum
DESCRIPTION:Lär dig om hur påsken firades förr\, om allt från blot till äggmålning. \n0SHARESDela eventet
URL:https://arkiv.barniuppsala.se/event/pasklovskul-pa-gamla-uppsala-museum/2016-03-24/
LOCATION:Gamla Uppsala museum\, Tingsslätten 1\, 75440 
CATEGORIES:Djur,Kunskap och Lärande,Museum,Påsklov
ATTACH;FMTTYPE=image/jpeg:https://arkiv.barniuppsala.se/wp-content/uploads/2016/03/Ägg.jpg
GEO:59.8979199;17.6339179
X-APPLE-STRUCTURED-LOCATION;VALUE=URI;X-ADDRESS=Gamla Uppsala museum Tingsslätten 1 75440;X-APPLE-RADIUS=500;X-TITLE=Tingsslätten 1:geo:17.6339179,59.8979199
END:VEVENT
END:VCALENDAR