BEGIN:VCALENDAR
VERSION:2.0
PRODID:-//Arkiv för Barn i Uppsala - ECPv5.1.6//NONSGML v1.0//EN
CALSCALE:GREGORIAN
METHOD:PUBLISH
X-WR-CALNAME:Arkiv för Barn i Uppsala
X-ORIGINAL-URL:https://arkiv.barniuppsala.se
X-WR-CALDESC:Händelser för Arkiv för Barn i Uppsala
BEGIN:VTIMEZONE
TZID:Europe/Stockholm
BEGIN:DAYLIGHT
TZOFFSETFROM:+0100
TZOFFSETTO:+0200
TZNAME:CEST
DTSTART:20170326T010000
END:DAYLIGHT
BEGIN:STANDARD
TZOFFSETFROM:+0200
TZOFFSETTO:+0100
TZNAME:CET
DTSTART:20171029T010000
END:STANDARD
END:VTIMEZONE
BEGIN:VEVENT
DTSTART;TZID=Europe/Stockholm:20170412T150000
DTEND;TZID=Europe/Stockholm:20170412T170000
DTSTAMP:20260422T210839
CREATED:20170328T095647Z
LAST-MODIFIED:20170403T082619Z
UID:12120-1492009200-1492016400@arkiv.barniuppsala.se
SUMMARY:Påskpyssel
DESCRIPTION:Påskpyssla på Eriksbergsbiblioteket\nBygg pärlplattor\, rita och färglägg på Eriksbergsbiblioteket onsdag 12 april. Använd mönster eller låt fantasin flöda fritt! \nBarn som är 6 år och över är varmt välkomna. \nBild från:https://bibliotekuppsala.se/web/arena/kalender \n  \n0SHARESDela eventet
URL:https://arkiv.barniuppsala.se/event/paskpysel/
LOCATION:Eriksbergsbiblioteket\, Granitvägen 14\, Uppsala\, 752 43\, Sverige
CATEGORIES:Barn,Påsklov,Pyssel
ATTACH;FMTTYPE=image/jpeg:https://arkiv.barniuppsala.se/wp-content/uploads/2017/03/påsk.jpg
ORGANIZER;CN="Bibliotek%20Uppsala":MAILTO:kundtjanst@bibliotekuppsala.se
GEO:59.8402279;17.6004145
X-APPLE-STRUCTURED-LOCATION;VALUE=URI;X-ADDRESS=Eriksbergsbiblioteket Granitvägen 14 Uppsala 752 43 Sverige;X-APPLE-RADIUS=500;X-TITLE=Granitvägen 14:geo:17.6004145,59.8402279
END:VEVENT
END:VCALENDAR