BEGIN:VCALENDAR
VERSION:2.0
PRODID:-//Arkiv för Barn i Uppsala - ECPv5.1.6//NONSGML v1.0//EN
CALSCALE:GREGORIAN
METHOD:PUBLISH
X-WR-CALNAME:Arkiv för Barn i Uppsala
X-ORIGINAL-URL:https://arkiv.barniuppsala.se
X-WR-CALDESC:Händelser för Arkiv för Barn i Uppsala
BEGIN:VTIMEZONE
TZID:Europe/Stockholm
BEGIN:DAYLIGHT
TZOFFSETFROM:+0100
TZOFFSETTO:+0200
TZNAME:CEST
DTSTART:20160327T010000
END:DAYLIGHT
BEGIN:STANDARD
TZOFFSETFROM:+0200
TZOFFSETTO:+0100
TZNAME:CET
DTSTART:20161030T010000
END:STANDARD
END:VTIMEZONE
BEGIN:VEVENT
DTSTART;VALUE=DATE:20161112
DTEND;VALUE=DATE:20161114
DTSTAMP:20260420T203747
CREATED:20161027T084835Z
LAST-MODIFIED:20161027T084835Z
UID:8976-1478919600-1479005999@arkiv.barniuppsala.se
SUMMARY:Pelle Svanslös Premiär - Fyrisbiografen
DESCRIPTION:Handling: \n“I denna klassiska film om Pelle Svanslös får vi följa med den svanslösa katten på hans första äventyr i Uppsalas gränder. Här blir han jagad av ilskna bulldoggar och stöter för första gången på elaka Måns och hans kumpaner Bill och Bull som försöker ställa till det för Pelle i Kattmästerskapen. Som tur är finns det snälla kompisar också\, som Maja Gräddnos och den kluriga huggormen Kalle som hjälper Pelle Svanslös på hans äventyr.” \nLand: Sverige\nProduktionsår: 1981\nLängd: 81 min\nGenre: Barnfilm\nÅldersgräns: Barntillåten\nRek. ålder: Från 4 år\nSpråk: Svenska\nBiljett Kostnad: 50 – 80 kr (barnfilm)\n 0SHARESDela eventet
URL:https://arkiv.barniuppsala.se/event/pelle-svanslos-premiar-fyrisbiografen/
LOCATION:Fyrisbiografen\, S:t Olofsgatan 10\, Uppsala\, 75312\, Sverige
CATEGORIES:Bio
ATTACH;FMTTYPE=image/jpeg:https://arkiv.barniuppsala.se/wp-content/uploads/2016/10/pelle01.jpg
GEO:59.8579889;17.6286964
X-APPLE-STRUCTURED-LOCATION;VALUE=URI;X-ADDRESS=Fyrisbiografen S:t Olofsgatan 10 Uppsala 75312 Sverige;X-APPLE-RADIUS=500;X-TITLE=S:t Olofsgatan 10:geo:17.6286964,59.8579889
END:VEVENT
END:VCALENDAR