BEGIN:VCALENDAR
VERSION:2.0
PRODID:-//Arkiv för Barn i Uppsala - ECPv5.1.6//NONSGML v1.0//EN
CALSCALE:GREGORIAN
METHOD:PUBLISH
X-WR-CALNAME:Arkiv för Barn i Uppsala
X-ORIGINAL-URL:https://arkiv.barniuppsala.se
X-WR-CALDESC:Händelser för Arkiv för Barn i Uppsala
BEGIN:VTIMEZONE
TZID:Europe/Stockholm
BEGIN:DAYLIGHT
TZOFFSETFROM:+0100
TZOFFSETTO:+0200
TZNAME:CEST
DTSTART:20150329T010000
END:DAYLIGHT
BEGIN:STANDARD
TZOFFSETFROM:+0200
TZOFFSETTO:+0100
TZNAME:CET
DTSTART:20151025T010000
END:STANDARD
END:VTIMEZONE
BEGIN:VEVENT
DTSTART;TZID=Europe/Stockholm:20151003T130000
DTEND;TZID=Europe/Stockholm:20151004T150000
DTSTAMP:20260420T134427
CREATED:20150827T095618Z
LAST-MODIFIED:20151002T172916Z
UID:3308-1443877200-1443970800@arkiv.barniuppsala.se
SUMMARY:Ponnyridning på Gränby 4H
DESCRIPTION:Varje helg ordnas det ponnyridning för gårdens besökare\, där du får rida en liten runda på någon av de snälla hästarna.\n \n\n	Lördagar: 12.00-13.00\n \n\n	Söndagar: 12.00-14.00 \n0SHARESDela eventet
URL:https://arkiv.barniuppsala.se/event/ponnyridning-pa-granby-4h-6/
LOCATION:Gränby 4H-gård\, Norra Gränbyvägen 20\, Uppsala\, 754 32\, Sverige
CATEGORIES:Djur
ATTACH;FMTTYPE=image/jpeg:https://arkiv.barniuppsala.se/wp-content/uploads/2015/08/Ponny1.jpg
GEO:59.8790432;17.6680899
X-APPLE-STRUCTURED-LOCATION;VALUE=URI;X-ADDRESS=Gränby 4H-gård Norra Gränbyvägen 20 Uppsala 754 32 Sverige;X-APPLE-RADIUS=500;X-TITLE=Norra Gränbyvägen 20:geo:17.6680899,59.8790432
END:VEVENT
END:VCALENDAR