BEGIN:VCALENDAR
VERSION:2.0
PRODID:-//Arkiv för Barn i Uppsala - ECPv5.1.6//NONSGML v1.0//EN
CALSCALE:GREGORIAN
METHOD:PUBLISH
X-WR-CALNAME:Arkiv för Barn i Uppsala
X-ORIGINAL-URL:https://arkiv.barniuppsala.se
X-WR-CALDESC:Händelser för Arkiv för Barn i Uppsala
BEGIN:VTIMEZONE
TZID:Europe/Stockholm
BEGIN:DAYLIGHT
TZOFFSETFROM:+0100
TZOFFSETTO:+0200
TZNAME:CEST
DTSTART:20180325T010000
END:DAYLIGHT
BEGIN:STANDARD
TZOFFSETFROM:+0200
TZOFFSETTO:+0100
TZNAME:CET
DTSTART:20181028T010000
END:STANDARD
END:VTIMEZONE
BEGIN:VEVENT
DTSTART;TZID=Europe/Stockholm:20181011T130000
DTEND;TZID=Europe/Stockholm:20181011T143000
DTSTAMP:20260421T193528
CREATED:20181009T085247Z
LAST-MODIFIED:20181009T085855Z
UID:23346-1539262800-1539268200@arkiv.barniuppsala.se
SUMMARY:Positivt föräldraskap på Sävjabiblioteket
DESCRIPTION:Positivt föräldraskap på Sävjabiblioteket\n\n\nFöreläsningar för dig som vill bli tryggare i din föräldraroll och har barn 0–5 år. Föreläsning 1 av 3. \n\n\n\nTid och plats\nTorsdagar 12.00–13.30 (11 oktober\, 18 oktober och 25 oktober) \nSävjabiblioteket \nSamarrangemang med Uppsala kommuns föräldravägledning Triple-P. \nFöranmälan: foraldravagledning@uppsala.se \n\nBibliotek Uppsala | Event på Sävjabiblioteket | Mera i Sävja  \nBild: pixabay \n\n 0SHARESDela eventet
URL:https://arkiv.barniuppsala.se/event/positivt-foraldraskap-pa-savjabiblioteket/2018-10-11/
LOCATION:Sävjabiblioteket\, Sävja Kulturcentrum\, Västgötaresan 133\, Uppsala\, Uppsala\, 757 54 Uppsala\, Sverige
CATEGORIES:Bibliotek,Kunskap och Lärande
ATTACH;FMTTYPE=image/jpeg:https://arkiv.barniuppsala.se/wp-content/uploads/2018/02/child-3046494_640.jpg
GEO:59.8107064;17.7022992
X-APPLE-STRUCTURED-LOCATION;VALUE=URI;X-ADDRESS=Sävjabiblioteket Sävja Kulturcentrum Västgötaresan 133 Uppsala Uppsala 757 54 Uppsala Sverige;X-APPLE-RADIUS=500;X-TITLE=Sävja Kulturcentrum\, Västgötaresan 133:geo:17.7022992,59.8107064
END:VEVENT
END:VCALENDAR