BEGIN:VCALENDAR
VERSION:2.0
PRODID:-//Arkiv för Barn i Uppsala - ECPv5.1.6//NONSGML v1.0//EN
CALSCALE:GREGORIAN
METHOD:PUBLISH
X-WR-CALNAME:Arkiv för Barn i Uppsala
X-ORIGINAL-URL:https://arkiv.barniuppsala.se
X-WR-CALDESC:Händelser för Arkiv för Barn i Uppsala
BEGIN:VTIMEZONE
TZID:Europe/Stockholm
BEGIN:DAYLIGHT
TZOFFSETFROM:+0100
TZOFFSETTO:+0200
TZNAME:CEST
DTSTART:20160327T010000
END:DAYLIGHT
BEGIN:STANDARD
TZOFFSETFROM:+0200
TZOFFSETTO:+0100
TZNAME:CET
DTSTART:20161030T010000
END:STANDARD
END:VTIMEZONE
BEGIN:VEVENT
DTSTART;TZID=Europe/Stockholm:20161029T114500
DTEND;TZID=Europe/Stockholm:20161029T124500
DTSTAMP:20260421T090830
CREATED:20161026T105012Z
LAST-MODIFIED:20161026T111528Z
UID:8948-1477741500-1477745100@arkiv.barniuppsala.se
SUMMARY:Prova-på BandyKul på Studenternas
DESCRIPTION:Prova-på BandyKul på Studenternas! \nDin chans att få prova om bandy är något för dig\, innan du bestämmer dig för att delta i bandyskolan. \nSirius\, UNIK\, Uppsala BOIS och Danmarks IF satsar på de minsta knattarna genom BandyKul\, som är namnet på Uppsalas bandyskolor. Klubbarna vill driva Sveriges bästa bandyskola. \nPå BandyKul åker barnen skridskor\, leker och spelar bandy och aktiviteten vänder sig till tjejer och killar mellan 6-9 år. Självklart blir det en hel del bandyspel men tyngdpunkten ligger på skridskoåkning och lek. Det ska vara roligt att åka ner till Studenternas\, åka skridskor\, leka och busa tillsammans sina kompisar. \nVar? Studenternas IP bana 1.\nNär? Lördag 29 oktober\, kl 10.45-11.45.\nKostnad? Gratis! \nGenom att prova på att spela bandy får barnen på ett lekfullt sätt möjlighet komma ut och röra på sig och få frisk luft. I Sverige är det självklart att alla barn lär sig att simma. Idrottsklubbarna vill att alla barn även ska få möjligheten att lära sig att åka skridskor för att få ett roligare och hälsosammare liv. \nFoto: bandykul.se. \n \n  \n0SHARESDela eventet
URL:https://arkiv.barniuppsala.se/event/prova-pa-bandykul/
LOCATION:Studenternas IP\, Ulleråkersvägen 6\, Uppsala\, 753 09\, Sverige
CATEGORIES:Lärande lek,Prova på,Sport & Motion,Utomhusaktivitet
ATTACH;FMTTYPE=image/jpeg:https://arkiv.barniuppsala.se/wp-content/uploads/2016/10/BandyKul.jpeg
GEO:59.8467885;17.6492147
X-APPLE-STRUCTURED-LOCATION;VALUE=URI;X-ADDRESS=Studenternas IP Ulleråkersvägen 6 Uppsala 753 09 Sverige;X-APPLE-RADIUS=500;X-TITLE=Ulleråkersvägen 6:geo:17.6492147,59.8467885
END:VEVENT
END:VCALENDAR