BEGIN:VCALENDAR
VERSION:2.0
PRODID:-//Arkiv för Barn i Uppsala - ECPv5.1.6//NONSGML v1.0//EN
CALSCALE:GREGORIAN
METHOD:PUBLISH
X-WR-CALNAME:Arkiv för Barn i Uppsala
X-ORIGINAL-URL:https://arkiv.barniuppsala.se
X-WR-CALDESC:Händelser för Arkiv för Barn i Uppsala
BEGIN:VTIMEZONE
TZID:Europe/Stockholm
BEGIN:DAYLIGHT
TZOFFSETFROM:+0100
TZOFFSETTO:+0200
TZNAME:CEST
DTSTART:20180325T010000
END:DAYLIGHT
BEGIN:STANDARD
TZOFFSETFROM:+0200
TZOFFSETTO:+0100
TZNAME:CET
DTSTART:20181028T010000
END:STANDARD
END:VTIMEZONE
BEGIN:VEVENT
DTSTART;TZID=Europe/Stockholm:20180825T120000
DTEND;TZID=Europe/Stockholm:20180825T180000
DTSTAMP:20260420T123905
CREATED:20180824T064033Z
LAST-MODIFIED:20180824T064033Z
UID:21971-1535198400-1535220000@arkiv.barniuppsala.se
SUMMARY:Prova-på-paddling i Almunge
DESCRIPTION:Prova-på-paddling i Almunge\nNu kan du prova på paddling ute på Långsjön i Almunge. En aktivitet anordnad utav Friluftsfrämjandet Alumunge-Lännas lokalavdelning. Åk i en kanadensare och håva upp smådjur i vattnet och gissa vad fiskarna heter. Det kommer bli en helmysig dag för hela familjen ute i naturen. Vid lämpligt väder finns det möjlighet att grilla pinnbröd. Ta gärna med matsäck. \nDet finns tre kanadensare på plats och flytvästar finns att låna\, men ta gärna med din egen flytväst om du har. Flytväst är obligatoriskt. Man kan även delta i Gissa Fisken och vinna ett litet pris. \n  \nVar:\nKlappbryggans badplats\, Almunge \nNär:\n25:e augusti kl 11.00-17.00 \n\nOm du vill veta mer om detta går du in på den här länken \nBild: Pixabay.com \n0SHARESDela eventet
URL:https://arkiv.barniuppsala.se/event/prova-pa-paddling-i-almunge/
LOCATION:Klappbryggans badplats\, Almunge\, Almunge-lövsta Säter 15\, Almunge\, 740 10\, Sverige
CATEGORIES:Djur,Natur,Prova på,Utomhusaktivitet
ATTACH;FMTTYPE=image/jpeg:https://arkiv.barniuppsala.se/wp-content/uploads/2015/08/Kanoter.jpg
GEO:59.876117;18.029258
X-APPLE-STRUCTURED-LOCATION;VALUE=URI;X-ADDRESS=Klappbryggans badplats Almunge Almunge-lövsta Säter 15 Almunge 740 10 Sverige;X-APPLE-RADIUS=500;X-TITLE=Almunge-lövsta Säter 15:geo:18.029258,59.876117
END:VEVENT
END:VCALENDAR