BEGIN:VCALENDAR
VERSION:2.0
PRODID:-//Arkiv för Barn i Uppsala - ECPv5.1.6//NONSGML v1.0//EN
CALSCALE:GREGORIAN
METHOD:PUBLISH
X-WR-CALNAME:Arkiv för Barn i Uppsala
X-ORIGINAL-URL:https://arkiv.barniuppsala.se
X-WR-CALDESC:Händelser för Arkiv för Barn i Uppsala
BEGIN:VTIMEZONE
TZID:Europe/Stockholm
BEGIN:DAYLIGHT
TZOFFSETFROM:+0100
TZOFFSETTO:+0200
TZNAME:CEST
DTSTART:20180325T010000
END:DAYLIGHT
BEGIN:STANDARD
TZOFFSETFROM:+0200
TZOFFSETTO:+0100
TZNAME:CET
DTSTART:20181028T010000
END:STANDARD
END:VTIMEZONE
BEGIN:VEVENT
DTSTART;TZID=Europe/Stockholm:20181031T141500
DTEND;TZID=Europe/Stockholm:20181031T151500
DTSTAMP:20260420T082831
CREATED:20181025T063945Z
LAST-MODIFIED:20181025T233632Z
UID:25395-1540995300-1540998900@arkiv.barniuppsala.se
SUMMARY:Prova på Skridskoåkning / Konståkning
DESCRIPTION:Prova på Skridskoåkning / Konståkning\nProva på Skridskoåkning / Konståkning – De flesta Uppsalabor känner inte till det här: Uppsala har både ett helt gäng elitåkare och en av Sveriges största konståkningsklubbar. Skridskoskolan är en viktig del av klubbens verksamhet och många åkare fortsätter i konståkningsskolan.\nMånga barn tycker att det är svårt att åka skridskor i början men det går förvånansvärt fort att lära sig. Med små medel och lekfull inlärningsteknik lär klubbens utbildade konståkningstränare ut grunderna. \nUAKK:s populära skridskoskola vänder sig till alla mellan 3-13 år och erbjuder isträning 1 gång i veckan 10-11 ggr. Det finns grupper både på vardagskvällar och helgförmiddag. Verksamheten bedrivs i ishallarna i Valsätra och Gränby. \nUnder höstlovet vecka 44 blir det prova-på-tillfälle – på självaste Halloween – onsdagen 31 oktober kl 14.15-15.15 i C-hallen i Gränby Ishall är alla skridskosugna välkomna att testa att åka. Kom utklädd om du vill! \nDatum: 31 oktober 2018 (Halloween)\nTid: 14.15-15.15\nPlats: Gränby ishall\, C-hallen\nPris: Gratis \nTips: Det finns fortfarande några platser kvar på UAKK:s Skridskoskola \n  \n\nBesök gärna länkarna nedan (externa länkar öppnas i nytt fönster/flik).\nUAKK | UAKK:s Skridskoskola | Fler aktiviteter på Höstlovet 2018 \nBild: Från arrangör \n0SHARESDela eventet
URL:https://arkiv.barniuppsala.se/event/prova-pa-skridskoakning-konstakning/
LOCATION:Gränby ishall\, Råbyvägen 71\, Uppsala\, 754 30\, Sverige
CATEGORIES:Barn,Höstlov,Prova på,Sport & Motion
ATTACH;FMTTYPE=image/jpeg:https://arkiv.barniuppsala.se/wp-content/uploads/2018/10/img_3296aratt-2.jpg
ORGANIZER;CN="UAKK":MAILTO:styrelse@uakk.nu
GEO:59.8802357;17.6565891
X-APPLE-STRUCTURED-LOCATION;VALUE=URI;X-ADDRESS=Gränby ishall Råbyvägen 71 Uppsala 754 30 Sverige;X-APPLE-RADIUS=500;X-TITLE=Råbyvägen 71:geo:17.6565891,59.8802357
END:VEVENT
END:VCALENDAR