BEGIN:VCALENDAR
VERSION:2.0
PRODID:-//Arkiv för Barn i Uppsala - ECPv5.1.6//NONSGML v1.0//EN
CALSCALE:GREGORIAN
METHOD:PUBLISH
X-WR-CALNAME:Arkiv för Barn i Uppsala
X-ORIGINAL-URL:https://arkiv.barniuppsala.se
X-WR-CALDESC:Händelser för Arkiv för Barn i Uppsala
BEGIN:VTIMEZONE
TZID:Europe/Stockholm
BEGIN:DAYLIGHT
TZOFFSETFROM:+0100
TZOFFSETTO:+0200
TZNAME:CEST
DTSTART:20200329T010000
END:DAYLIGHT
BEGIN:STANDARD
TZOFFSETFROM:+0200
TZOFFSETTO:+0100
TZNAME:CET
DTSTART:20201025T010000
END:STANDARD
END:VTIMEZONE
BEGIN:VEVENT
DTSTART;TZID=Europe/Stockholm:20200218T130000
DTEND;TZID=Europe/Stockholm:20200218T150000
DTSTAMP:20260421T121341
CREATED:20200205T133517Z
LAST-MODIFIED:20200205T135857Z
UID:56299-1582030800-1582038000@arkiv.barniuppsala.se
SUMMARY:Pyssel med tema Väsen | Gottsundabiblioteket (8 år+)
DESCRIPTION:Pyssel med tema Väsen | Gottsundabiblioteket (8 år+)\nElise Nilsson besöker Gottsundabiblioteket och pysslar tillsammans med barnen på temat ”Väsen” och folktrons spännande värld. Du kan göra en liten vätte\, en drake\, en läskig gloson med röda glödande ögon\, ett troll\, en bäckahäst\, en lurig mörksugga\, eller något annat väsen. \nDatum: Tisdagen den 18 februari 2020\nTid: 13:00-15:00\, Drop in\nPlats: Gottsundabiblioteket\nÅlder: Från 8 år\nPris: Gratis \n  \n\nOm Bibliotek Uppsala\n\n\nBibliotek Uppsala är en plats för möten\, kunskap och upplevelser. Tanken är att ge alla Uppsalabor tillgång till berättelser och information som kan ge nya insikter och nya perspektiv. Genom ett författarsamtal\, en bok\, en utställning\, en sagostund eller någon annan av de hundratals aktiviteter och arrangemang som erbjuds varje år. \n\n\n\nBesök gärna länkarna nedan (externa länkar öppnas i ett nytt fönster/flik).\nPyssel med Elise Nilsson | Kommande event på Sportlovet \nLäs mer: Varför har vi sportlov i Sverige? \nFoto: _Alicja_ \n0SHARESDela eventet
URL:https://arkiv.barniuppsala.se/event/pyssel-tema-vasen-gottsundabiblioteket-v8-2020/
LOCATION:Gottsundabiblioteket\, Valthornsvägen 11\, Uppsala\, 756 50\, Sverige
CATEGORIES:Ålderskategori,Anmälan / Kostnad,Barn,Bibliotek,Eventkategorier,Geografisk kategori,Gottsunda,Gratis,Ingen föranmälan,Litteratur och Poesi,Pyssel,Skapande och Kreativitet,Skollov,Sportlov,Ungdom,Uppsala Kommun,? Uppsala
ATTACH;FMTTYPE=image/jpeg:https://arkiv.barniuppsala.se/wp-content/uploads/2020/02/felt-4007361_1280-e1580911031141.jpg
ORGANIZER;CN="Gottsundabiblioteket":MAILTO:gottsundabiblioteket@uppsala.se
GEO:59.8093409;17.6295555
X-APPLE-STRUCTURED-LOCATION;VALUE=URI;X-ADDRESS=Gottsundabiblioteket Valthornsvägen 11 Uppsala 756 50 Sverige;X-APPLE-RADIUS=500;X-TITLE=Valthornsvägen 11:geo:17.6295555,59.8093409
END:VEVENT
END:VCALENDAR