BEGIN:VCALENDAR
VERSION:2.0
PRODID:-//Arkiv för Barn i Uppsala - ECPv5.1.6//NONSGML v1.0//EN
CALSCALE:GREGORIAN
METHOD:PUBLISH
X-WR-CALNAME:Arkiv för Barn i Uppsala
X-ORIGINAL-URL:https://arkiv.barniuppsala.se
X-WR-CALDESC:Händelser för Arkiv för Barn i Uppsala
BEGIN:VTIMEZONE
TZID:Europe/Stockholm
BEGIN:DAYLIGHT
TZOFFSETFROM:+0100
TZOFFSETTO:+0200
TZNAME:CEST
DTSTART:20200329T010000
END:DAYLIGHT
BEGIN:STANDARD
TZOFFSETFROM:+0200
TZOFFSETTO:+0100
TZNAME:CET
DTSTART:20201025T010000
END:STANDARD
END:VTIMEZONE
BEGIN:VEVENT
DTSTART;TZID=Europe/Stockholm:20200615T173000
DTEND;TZID=Europe/Stockholm:20200615T174500
DTSTAMP:20260419T165643
CREATED:20200623T125948Z
LAST-MODIFIED:20200629T130859Z
UID:64837-1592242200-1592243100@arkiv.barniuppsala.se
SUMMARY:Qigong i Botaniska trädgården 2020
DESCRIPTION:Qigong i Botaniska trädgården 2020\nQigong utomhus under ledning av Biyunföreningen Gröna drakens qigonginstruktörer. Qigong utförs stående och på behörigt avstånd ifrån varandra. Nyfiken\, nybörjare och vana utövare kan alla träna tillsammans i den vackra Botaniska trädgården! \nMåndagen den 6 juli 2020 gästar grundaren av Biyunmetoden\, Fan Xiulan\, träningen. Hon kommer att inleda träningstillfället med några väl valda ord om sommarhälsa och qigong. \nDatum: \nMåndagen den 15 juni 2020\nMåndagen den 22 juni 2020\nMåndagen den 29 juni 2020\nMåndagen den 6 juli 2020\nMåndagen den 13 juli 2020\nMåndagen den 20 juli 2020\nMåndagen den 27 juli 2020 \nTid: 17.30 – 18.45\nPlats: Botaniska Trädgården\nÅlder: 15 år+\nPris: Gratis \n  \n\nOm Biyunmetodens qigong\nBiyunföreningen Gröna Draken finns till för dig som vill träna qigong. Metoden är utvecklad av föreningens lärare Fan Xiulan som plockat det bästa ur sin familjetradition och sin utbildning i traditionell kinesisk medicin. \nBiyunmetodens qigong passar bra för: \n\nDen stressade nutidsmänniskan som behöver komma ner i varv\, hålla kroppen smidig och utan smärta.\nBarn som behöver vila från yttre stimuli och leka fram såväl lugn och ro som dynamik och kraft.\nUngdomar och studenter eftersom en utvilad och klar hjärna är en förutsättning för att ta in nya intryck\, ny kunskap och förståelse. Få mer ork till plugg och bli säkrare på sig själv!\nSeniorer som vill bibehålla och förbättra spänst\, balans och motorik. Föryngra kropp och knopp!\n\n\nBesök gärna länkarna nedan (externa länkar öppnas i ett nytt fönster/flik).\nGröna Draken | Kommande event på Sommarlovet | Kommande event inom Hälsa & Välmående | \nFoto: Lars Johansson \n0SHARESDela eventet
URL:https://arkiv.barniuppsala.se/event/qigong-i-botaniska-tradgarden-2020/2020-06-15/
LOCATION:Botaniska trädgården\, Villavägen 8\, Uppsala\, 752 36\, Sverige
CATEGORIES:Ålderskategori,Anmälan / Kostnad,Barn,Eventkategorier,Familj,Geografisk kategori,Gratis,Hälsa & Välmående,Ingen föranmälan,Kåbo,Kropp och Själ,Kunskap och Lärande,Natur,Prova på,Skollov,Sommarlov,Sport & Motion,Ungdom,Uppsala Kommun,Utomhusaktivitet,? Uppsala
ATTACH;FMTTYPE=image/jpeg:https://arkiv.barniuppsala.se/wp-content/uploads/2020/06/LMJ1982.jpg
GEO:59.8503326;17.6269648
X-APPLE-STRUCTURED-LOCATION;VALUE=URI;X-ADDRESS=Botaniska trädgården Villavägen 8 Uppsala 752 36 Sverige;X-APPLE-RADIUS=500;X-TITLE=Villavägen 8:geo:17.6269648,59.8503326
END:VEVENT
END:VCALENDAR