BEGIN:VCALENDAR
VERSION:2.0
PRODID:-//Arkiv för Barn i Uppsala - ECPv5.1.6//NONSGML v1.0//EN
CALSCALE:GREGORIAN
METHOD:PUBLISH
X-WR-CALNAME:Arkiv för Barn i Uppsala
X-ORIGINAL-URL:https://arkiv.barniuppsala.se
X-WR-CALDESC:Händelser för Arkiv för Barn i Uppsala
BEGIN:VTIMEZONE
TZID:Europe/Stockholm
BEGIN:DAYLIGHT
TZOFFSETFROM:+0100
TZOFFSETTO:+0200
TZNAME:CEST
DTSTART:20160327T010000
END:DAYLIGHT
BEGIN:STANDARD
TZOFFSETFROM:+0200
TZOFFSETTO:+0100
TZNAME:CET
DTSTART:20161030T010000
END:STANDARD
END:VTIMEZONE
BEGIN:VEVENT
DTSTART;TZID=Europe/Stockholm:20160410T150000
DTEND;TZID=Europe/Stockholm:20160410T153000
DTSTAMP:20260420T081243
CREATED:20160329T084244Z
LAST-MODIFIED:20160405T091625Z
UID:6578-1460300400-1460302200@arkiv.barniuppsala.se
SUMMARY:Rackar och unge - här hittar dom oss aldrig
DESCRIPTION:Rackar och Unge – här hittar dom oss aldrig. Teaterföreställning med Awake Projects.\nKompisarna Rackar och Unge har rymt hemifrån. En spännande föreställning om två barn som startar en supergömmarklubb och tänker klara sig själva\, för de vuxna har jämt så bråttom. \nFör barn från 3 år. Boka gratisbiljetter från 3/4. \nKerstin Ekmansalen. \nfoto: Awake Projects\, hämtat från bibliotekuppsala.se. \n0SHARESDela eventet
URL:https://arkiv.barniuppsala.se/event/rackar-och-unge-har-hittar-dom-oss-aldrig/
LOCATION:Stadsbiblioteket\, Svartbäcksgatan 17\, Uppsala\, 753 75 \, Sverige
CATEGORIES:Teater och Bio
ATTACH;FMTTYPE=image/jpeg:https://arkiv.barniuppsala.se/wp-content/uploads/2016/03/Rackar_och_Unge.jpg
ORGANIZER;CN="Bibliotek%20Uppsala":MAILTO:kundtjanst@bibliotekuppsala.se
GEO:59.8606206;17.6353278
X-APPLE-STRUCTURED-LOCATION;VALUE=URI;X-ADDRESS=Stadsbiblioteket Svartbäcksgatan 17 Uppsala 753 75  Sverige;X-APPLE-RADIUS=500;X-TITLE=Svartbäcksgatan 17:geo:17.6353278,59.8606206
END:VEVENT
END:VCALENDAR