BEGIN:VCALENDAR
VERSION:2.0
PRODID:-//Arkiv för Barn i Uppsala - ECPv5.1.6//NONSGML v1.0//EN
CALSCALE:GREGORIAN
METHOD:PUBLISH
X-WR-CALNAME:Arkiv för Barn i Uppsala
X-ORIGINAL-URL:https://arkiv.barniuppsala.se
X-WR-CALDESC:Händelser för Arkiv för Barn i Uppsala
BEGIN:VTIMEZONE
TZID:Europe/Stockholm
BEGIN:DAYLIGHT
TZOFFSETFROM:+0100
TZOFFSETTO:+0200
TZNAME:CEST
DTSTART:20150329T010000
END:DAYLIGHT
BEGIN:STANDARD
TZOFFSETFROM:+0200
TZOFFSETTO:+0100
TZNAME:CET
DTSTART:20151025T010000
END:STANDARD
END:VTIMEZONE
BEGIN:VEVENT
DTSTART;TZID=Europe/Stockholm:20151121T160000
DTEND;TZID=Europe/Stockholm:20151121T170000
DTSTAMP:20260421T013019
CREATED:20150730T072106Z
LAST-MODIFIED:20150901T125928Z
UID:2895-1448121600-1448125200@arkiv.barniuppsala.se
SUMMARY:Reflexsafari på Färsna 4H
DESCRIPTION:Ta med dig en ficklampa för att hitta alla reflexer som hänger lite överallt på gården. Även djuren deltar i lekarna. \n0SHARESDela eventet
URL:https://arkiv.barniuppsala.se/event/reflexsafari-pa-farsna-4h/
LOCATION:Färsna 4H\, Färsna gård\, Sverige
CATEGORIES:Djur,Kunskap och Lärande
ATTACH;FMTTYPE=image/jpeg:https://arkiv.barniuppsala.se/wp-content/uploads/2015/07/Reflex.jpg
GEO:59.7734171;18.6820627
X-APPLE-STRUCTURED-LOCATION;VALUE=URI;X-ADDRESS=Färsna 4H Färsna gård Sverige;X-APPLE-RADIUS=500;X-TITLE=Färsna gård:geo:18.6820627,59.7734171
END:VEVENT
END:VCALENDAR