BEGIN:VCALENDAR
VERSION:2.0
PRODID:-//Arkiv för Barn i Uppsala - ECPv5.1.6//NONSGML v1.0//EN
CALSCALE:GREGORIAN
METHOD:PUBLISH
X-WR-CALNAME:Arkiv för Barn i Uppsala
X-ORIGINAL-URL:https://arkiv.barniuppsala.se
X-WR-CALDESC:Händelser för Arkiv för Barn i Uppsala
BEGIN:VTIMEZONE
TZID:Europe/Stockholm
BEGIN:DAYLIGHT
TZOFFSETFROM:+0100
TZOFFSETTO:+0200
TZNAME:CEST
DTSTART:20160327T010000
END:DAYLIGHT
BEGIN:STANDARD
TZOFFSETFROM:+0200
TZOFFSETTO:+0100
TZNAME:CET
DTSTART:20161030T010000
END:STANDARD
END:VTIMEZONE
BEGIN:VEVENT
DTSTART;TZID=Europe/Stockholm:20160620T110000
DTEND;TZID=Europe/Stockholm:20160621T000000
DTSTAMP:20260421T103047
CREATED:20160318T140404Z
LAST-MODIFIED:20160318T140404Z
UID:6525-1466420400-1466467200@arkiv.barniuppsala.se
SUMMARY:Riddarläger
DESCRIPTION:Lär dig ta hand om både häst och vapen\, prova på att göra upp eld och sov i tält. För barn i åldrarna 10-14 år. \n0SHARESDela eventet
URL:https://arkiv.barniuppsala.se/event/riddarlager/2016-06-20/
LOCATION:Skoklosters slott\, Skoklostervägen 84\, Skokloster\, 746 96
CATEGORIES:Djur,Kunskap och Lärande,Lärande lek
ATTACH;FMTTYPE=image/jpeg:https://arkiv.barniuppsala.se/wp-content/uploads/2015/07/Tornerspel.jpg
GEO:59.7041615;17.6164641
X-APPLE-STRUCTURED-LOCATION;VALUE=URI;X-ADDRESS=Skoklosters slott Skoklostervägen 84 Skokloster 746 96;X-APPLE-RADIUS=500;X-TITLE=Skoklostervägen 84:geo:17.6164641,59.7041615
END:VEVENT
END:VCALENDAR