BEGIN:VCALENDAR
VERSION:2.0
PRODID:-//Arkiv för Barn i Uppsala - ECPv5.1.6//NONSGML v1.0//EN
CALSCALE:GREGORIAN
METHOD:PUBLISH
X-WR-CALNAME:Arkiv för Barn i Uppsala
X-ORIGINAL-URL:https://arkiv.barniuppsala.se
X-WR-CALDESC:Händelser för Arkiv för Barn i Uppsala
BEGIN:VTIMEZONE
TZID:Europe/Stockholm
BEGIN:DAYLIGHT
TZOFFSETFROM:+0100
TZOFFSETTO:+0200
TZNAME:CEST
DTSTART:20180325T010000
END:DAYLIGHT
BEGIN:STANDARD
TZOFFSETFROM:+0200
TZOFFSETTO:+0100
TZNAME:CET
DTSTART:20181028T010000
END:STANDARD
END:VTIMEZONE
BEGIN:VEVENT
DTSTART;TZID=Europe/Stockholm:20180223T130000
DTEND;TZID=Europe/Stockholm:20180223T150000
DTSTAMP:20260420T204227
CREATED:20180212T124320Z
LAST-MODIFIED:20180212T124320Z
UID:18211-1519390800-1519398000@arkiv.barniuppsala.se
SUMMARY:Rita och färglägg i entrén
DESCRIPTION:Rita och färglägg i entrén\n\n\nTeckna och färglägg på Gottsundabiblioteket på sportlovet. Drop in! \n\n\n\nTid och plats\nFredag 23 februari 13.00-15.00 \nGottsundabiblioteket\, entrén \nBild från pixabay.com \n\n 0SHARESDela eventet
URL:https://arkiv.barniuppsala.se/event/rita-och-farglagg-entren/
LOCATION:Gottsundabiblioteket\, Valthornsvägen 11\, Uppsala\, 756 50\, Sverige
CATEGORIES:Barn,Bibliotek,Skapande och Kreativitet,Sportlov,Ungdom
ATTACH;FMTTYPE=image/jpeg:https://arkiv.barniuppsala.se/wp-content/uploads/2018/02/paint-2985569_640.jpg
GEO:59.8093409;17.6295555
X-APPLE-STRUCTURED-LOCATION;VALUE=URI;X-ADDRESS=Gottsundabiblioteket Valthornsvägen 11 Uppsala 756 50 Sverige;X-APPLE-RADIUS=500;X-TITLE=Valthornsvägen 11:geo:17.6295555,59.8093409
END:VEVENT
END:VCALENDAR