BEGIN:VCALENDAR
VERSION:2.0
PRODID:-//Arkiv för Barn i Uppsala - ECPv5.1.6//NONSGML v1.0//EN
CALSCALE:GREGORIAN
METHOD:PUBLISH
X-WR-CALNAME:Arkiv för Barn i Uppsala
X-ORIGINAL-URL:https://arkiv.barniuppsala.se
X-WR-CALDESC:Händelser för Arkiv för Barn i Uppsala
BEGIN:VTIMEZONE
TZID:Europe/Stockholm
BEGIN:DAYLIGHT
TZOFFSETFROM:+0100
TZOFFSETTO:+0200
TZNAME:CEST
DTSTART:20210328T010000
END:DAYLIGHT
BEGIN:STANDARD
TZOFFSETFROM:+0200
TZOFFSETTO:+0100
TZNAME:CET
DTSTART:20211031T010000
END:STANDARD
END:VTIMEZONE
BEGIN:VEVENT
DTSTART;TZID=Europe/Stockholm:20210222T180000
DTEND;TZID=Europe/Stockholm:20210222T210000
DTSTAMP:20260420T064839
CREATED:20210209T131940Z
LAST-MODIFIED:20210209T131940Z
UID:74266-1614016800-1614027600@arkiv.barniuppsala.se
SUMMARY:Första hjälpen - digital kurs | Röda korset
DESCRIPTION:Första hjälpen – digital kurs | Röda korset\nRöda korsets har i över 100 år utbildat människor i första hjälpen och räddat mängder av liv. På grund av Coronaviruset tvingas de fysiska utbildningarna att ställas in men de fortsätter att utbilda i första hjälpen digitalt. \nFörsta hjälpen online är ett nytt sätt att utbilda i första hjälpen. Istället för att du och andra deltagare ska åka till en kurslokal så träffas ni på nätet. Var och en av er kommer att öva på golvet hemma tillsammans med en utbildare live på nätet.  \n\n\n\nKursen är en livekurs som ger dig grundläggande kunskaper i livräddande första hjälpen. Under kursen måste du både kunna synas och höras\, dvs ha fungerande mikrofon och kamera\, så att utbildarna kan hjälpa dig med de praktiska momenten. \nMålgrupp\nAllmänhet/Privatpersoner samt frivilliga/förtroendevalda och anställda inom Svenska Röda Korset \n\n\n\n\nKursinnehåll\nKursen ger deltagarna grundläggande kunskaper i livräddande första hjälpen för vuxna. \nEfter genomförd kurs och ifylld utvärdering får du ett intyg på att du deltagit på kursen. På intyget står kursmålen. \n\n\nKursmål \n\n\n\nKänna till hur livstecken kontrolleras och en öppen luftväg skapas\nKänna till hur en medvetslös person placeras i stabilt sidoläge\nKunna larma\nKänna till 1177 Vårdguiden\nKänna till hur hjärt-lungräddning (HLR) utförs på vuxen\nKänna till hur en hjärtstartare används i kombination med hjärt-lungräddning\nKunna hjälpa till att få bort ett föremål vid luftvägsstopp\nKunna lägga ett tryckförband vid blödning\nKunna förebygga cirkulationssvikt\nKänna till hur olycksfall kan förebyggas\nKänna till vikten av att tänka på egen och andras säkerhet i olyckssituationer\n\nOnlinekursen bör kompletteras med ett praktiskt övningsmoment\, där HLR övas på särskild övningsdocka \n\n\nKurstillfällen ges datumen:\n22 februari kl. 18-21.\n28 februari kl. 09-12.\n2 mars kl. 09-12.\n9 mars kl. 09-12.\n11 mars kl. 18-21. \nPlats: Online\nLängd: Kursen är 3 timmar lång inklusive paus.\nKostnad: Gratis\nAnmälan: Klicka här för att komma till Röda korsets hemsida och anmälningsformuläret.\nFörkunskaper: Inga speciella förkunskaper krävs.\nTekniska krav: För att utbildarna ska kunna hjälpa dig med de praktiska momenten så behöver du kunna synas och höras under hela kursen\, dvs ha en fungerande mikrofon och kamera. \n\n\n\n\nBesök gärna länkarna nedan (externa länkar öppnas i ett nytt fönster/flik).\nRöda korset kursanmälan | Kommande event inom hälsa & välmående \nFoto: Kim Manseok \n\n\n\n\n\n\n 0SHARESDela eventet
URL:https://arkiv.barniuppsala.se/event/roda-korset-forsta-hjalpen-hlr-112-1177-februari-2021/2021-02-22/
LOCATION:– Digitalt Event –\, Sverige
CATEGORIES:Ålderskategori,Älvkarleby Kommun,Anmälan,Anmälan / Kostnad,Centrum,Digitala event,Enköpings Kommun,Eriksberg,Eventkategorier,Familj,För anhöriga,För föräldrar,Föreläsning och Kurs,Främre Luthagen-Fjärdingen,Fyrislund,Gamla Uppsala,Geografisk kategori,Gottsunda,Gränby,Gratis,Håbo Kommun,Hälsa & Välmående,Heby Kommun,Kåbo,Knivsta Kommun,Kunskap och Lärande,Norrtälje Kommun,Östhammars Kommun,Prova på,Sävja,Skollov,Slottet-Sjukhuset,Sportlov,Stenhagen,Svartbäcken,Tierps Kommun,Ulleråker,Ungdom,Uppsala Kommun,Workshop,? Uppsala
ATTACH;FMTTYPE=image/jpeg:https://arkiv.barniuppsala.se/wp-content/uploads/2021/02/cpr-5807848_1280-e1612874630328.jpg
END:VEVENT
END:VCALENDAR