BEGIN:VCALENDAR
VERSION:2.0
PRODID:-//Arkiv för Barn i Uppsala - ECPv5.1.6//NONSGML v1.0//EN
CALSCALE:GREGORIAN
METHOD:PUBLISH
X-WR-CALNAME:Arkiv för Barn i Uppsala
X-ORIGINAL-URL:https://arkiv.barniuppsala.se
X-WR-CALDESC:Händelser för Arkiv för Barn i Uppsala
BEGIN:VTIMEZONE
TZID:Europe/Stockholm
BEGIN:DAYLIGHT
TZOFFSETFROM:+0100
TZOFFSETTO:+0200
TZNAME:CEST
DTSTART:20160327T010000
END:DAYLIGHT
BEGIN:STANDARD
TZOFFSETFROM:+0200
TZOFFSETTO:+0100
TZNAME:CET
DTSTART:20161030T010000
END:STANDARD
END:VTIMEZONE
BEGIN:VEVENT
DTSTART;TZID=Europe/Stockholm:20161227T111500
DTEND;TZID=Europe/Stockholm:20161227T164500
DTSTAMP:20260421T121244
CREATED:20161215T133039Z
LAST-MODIFIED:20200201T035843Z
UID:9812-1482837300-1482857100@arkiv.barniuppsala.se
SUMMARY:Rovdjursskola med de 5 stora
DESCRIPTION:Rovdjursskola med de 5 stora hos Biotopia får du inte missa! \nTa chansen 27 december eller 4 januari när “Rovdjurscentret De 5 stora” gästspelar på Biotopia.\nDeltagarna får lära sig mer om de stora rovdjuren och hur människans relation till dessa arter ser ut.\nBilder\, filmer och ljud  varvas med praktiska övningar.  \nAktiviteten är för barn från 6 år och uppåt. Vuxna får också gärna vara med men kan även göra något annat så länge de är kvar på Biotopia.  \nDet blir 4 st 45-minuters pass båda dagarna\, med starttid kl 11.15\, 13.00\, 14.30 och 16.00. Den som vill vara säker på att få plats på ett pass föranmäler sig till info@biotopia.nu annars är det drop-in i mån av plats. \nBild: pixabay.com. \n0SHARESDela eventet
URL:https://arkiv.barniuppsala.se/event/rovdjursskola-med-de-5-stora/
LOCATION:Biotopia – Biologiska museet\, Vasagatan 4\, Uppsala\, 753 13\, Sverige
CATEGORIES:Djur,Kunskap och Lärande,Museum,Natur
ATTACH;FMTTYPE=image/jpeg:https://arkiv.barniuppsala.se/wp-content/uploads/2016/12/klor.jpg
ORGANIZER;CN="Biotopia":MAILTO:info@biotopia.nu
END:VEVENT
END:VCALENDAR