BEGIN:VCALENDAR
VERSION:2.0
PRODID:-//Arkiv för Barn i Uppsala - ECPv5.1.6//NONSGML v1.0//EN
CALSCALE:GREGORIAN
METHOD:PUBLISH
X-WR-CALNAME:Arkiv för Barn i Uppsala
X-ORIGINAL-URL:https://arkiv.barniuppsala.se
X-WR-CALDESC:Händelser för Arkiv för Barn i Uppsala
BEGIN:VTIMEZONE
TZID:Europe/Stockholm
BEGIN:DAYLIGHT
TZOFFSETFROM:+0100
TZOFFSETTO:+0200
TZNAME:CEST
DTSTART:20170326T010000
END:DAYLIGHT
BEGIN:STANDARD
TZOFFSETFROM:+0200
TZOFFSETTO:+0100
TZNAME:CET
DTSTART:20171029T010000
END:STANDARD
END:VTIMEZONE
BEGIN:VEVENT
DTSTART;TZID=Europe/Stockholm:20170411T140000
DTEND;TZID=Europe/Stockholm:20170411T170000
DTSTAMP:20260423T031419
CREATED:20170329T082448Z
LAST-MODIFIED:20170329T082448Z
UID:12146-1491919200-1491930000@arkiv.barniuppsala.se
SUMMARY:Sagobildsverkstad på Stadsbiblioteket
DESCRIPTION:Kom och måla på Stadsbiblioteket\nTecknar- och målarverkstad! Bror Hjorths Hus gästar Stadsbiblioteket och skapar sagobilder med inspiration av Anna Höglunds böcker. \n\n\n\nDrop-in för barn från 3 år och uppåt. \nTid och plats \nTisdag 11 april kl 13.00-16.00 \nStadsbiblioteket\, Skattkammaren \nBilden hämtad från pixabay.com \n  \n\n 0SHARESDela eventet
URL:https://arkiv.barniuppsala.se/event/sagobildsverkstad/
LOCATION:Stadsbiblioteket\, Svartbäcksgatan 17\, Uppsala\, 753 75 \, Sverige
CATEGORIES:Bibliotek,Kunskap och Lärande,Lärande lek,Påsklov,Prova på,Pyssel,Skapande och Kreativitet
ATTACH;FMTTYPE=image/jpeg:https://arkiv.barniuppsala.se/wp-content/uploads/2017/03/paint-328676_640.jpg
ORGANIZER;CN="Bibliotek%20Uppsala":MAILTO:kundtjanst@bibliotekuppsala.se
GEO:59.8606206;17.6353278
X-APPLE-STRUCTURED-LOCATION;VALUE=URI;X-ADDRESS=Stadsbiblioteket Svartbäcksgatan 17 Uppsala 753 75  Sverige;X-APPLE-RADIUS=500;X-TITLE=Svartbäcksgatan 17:geo:17.6353278,59.8606206
END:VEVENT
END:VCALENDAR