BEGIN:VCALENDAR
VERSION:2.0
PRODID:-//Arkiv för Barn i Uppsala - ECPv5.1.6//NONSGML v1.0//EN
CALSCALE:GREGORIAN
METHOD:PUBLISH
X-WR-CALNAME:Arkiv för Barn i Uppsala
X-ORIGINAL-URL:https://arkiv.barniuppsala.se
X-WR-CALDESC:Händelser för Arkiv för Barn i Uppsala
BEGIN:VTIMEZONE
TZID:Europe/Stockholm
BEGIN:DAYLIGHT
TZOFFSETFROM:+0100
TZOFFSETTO:+0200
TZNAME:CEST
DTSTART:20160327T010000
END:DAYLIGHT
BEGIN:STANDARD
TZOFFSETFROM:+0200
TZOFFSETTO:+0100
TZNAME:CET
DTSTART:20161030T010000
END:STANDARD
END:VTIMEZONE
BEGIN:VEVENT
DTSTART;TZID=Europe/Stockholm:20161111T140000
DTEND;TZID=Europe/Stockholm:20161111T150000
DTSTAMP:20260420T155555
CREATED:20161028T070423Z
LAST-MODIFIED:20161107T115740Z
UID:8980-1478872800-1478876400@arkiv.barniuppsala.se
SUMMARY:Sagomys
DESCRIPTION:Äntligen fredagsmyser Huvudbiblioteket med sagor för alla mellan 2 och 5 år. \nFörbokning för grupper på telefon 0171-62 55 10. \nNotering: Max 10 barn per bokning. \nTid: Klockan 14.00–15.00 \nVar: På biblioteket\, Ågatan 29\, i Sagorummet. \n  \n0SHARESDela eventet
URL:https://arkiv.barniuppsala.se/event/sagomys/2016-11-11/
LOCATION:Huvudbiblioteket\, Ågatan 29\, Enköping\, 74935
CATEGORIES:Bibliotek
ATTACH;FMTTYPE=image/jpeg:https://arkiv.barniuppsala.se/wp-content/uploads/2016/10/Grillby_bibliotek.jpg
GEO:59.6338936;17.0735197
X-APPLE-STRUCTURED-LOCATION;VALUE=URI;X-ADDRESS=Huvudbiblioteket Ågatan 29 Enköping 74935;X-APPLE-RADIUS=500;X-TITLE=Ågatan 29:geo:17.0735197,59.6338936
END:VEVENT
END:VCALENDAR