BEGIN:VCALENDAR
VERSION:2.0
PRODID:-//Arkiv för Barn i Uppsala - ECPv5.1.6//NONSGML v1.0//EN
CALSCALE:GREGORIAN
METHOD:PUBLISH
X-WR-CALNAME:Arkiv för Barn i Uppsala
X-ORIGINAL-URL:https://arkiv.barniuppsala.se
X-WR-CALDESC:Händelser för Arkiv för Barn i Uppsala
BEGIN:VTIMEZONE
TZID:Europe/Stockholm
BEGIN:DAYLIGHT
TZOFFSETFROM:+0100
TZOFFSETTO:+0200
TZNAME:CEST
DTSTART:20170326T010000
END:DAYLIGHT
BEGIN:STANDARD
TZOFFSETFROM:+0200
TZOFFSETTO:+0100
TZNAME:CET
DTSTART:20171029T010000
END:STANDARD
END:VTIMEZONE
BEGIN:VEVENT
DTSTART;TZID=Europe/Stockholm:20170710T140000
DTEND;TZID=Europe/Stockholm:20170710T170000
DTSTAMP:20260421T170047
CREATED:20170704T085742Z
LAST-MODIFIED:20170704T085742Z
UID:13150-1499695200-1499706000@arkiv.barniuppsala.se
SUMMARY:Sagopyssel på svenska\, arabiska och somaliska
DESCRIPTION:Sagostund med pyssel\nPå Gottsundabiblioteket den 10-12 juli så kommer du att kunna lyssna på sagan om Bockarna Bruse på tre olika språk.  Därefter blir det pyssel på sagans tema och du får hjälpa till att inreda ett tittskåp. På måndagen läses sagan på arabiska\, på tisdagen på svenska och på onsdagen på somaliska.\n\nMåndag 10 juli (på arabiska) kl. 13-16 \nTisdag 11 juli (på svenska) kl. 13-16 \nOnsdag 12 juli (på somaliska) kl. 13-16 \nDrop in \nTemaverkstaden\, Gottsundabiblioteket \nLäs mer på Bibliotek Uppsala \n\n  \nBild från pixabay.com \n0SHARESDela eventet
URL:https://arkiv.barniuppsala.se/event/sagopyssel-pa-svenska-arabiska-och-somaliska/2017-07-10/
LOCATION:Gottsundabiblioteket\, Valthornsvägen 11\, Uppsala\, 756 50\, Sverige
CATEGORIES:Barn,Bibliotek,Kunskap och Lärande,Pyssel,Sagostund – barn,Sommarlov
ATTACH;FMTTYPE=image/jpeg:https://arkiv.barniuppsala.se/wp-content/uploads/2017/05/goats-2376144_640.jpg
ORGANIZER;CN="Bibliotek%20Uppsala":MAILTO:kundtjanst@bibliotekuppsala.se
GEO:59.8093409;17.6295555
X-APPLE-STRUCTURED-LOCATION;VALUE=URI;X-ADDRESS=Gottsundabiblioteket Valthornsvägen 11 Uppsala 756 50 Sverige;X-APPLE-RADIUS=500;X-TITLE=Valthornsvägen 11:geo:17.6295555,59.8093409
END:VEVENT
END:VCALENDAR