BEGIN:VCALENDAR
VERSION:2.0
PRODID:-//Arkiv för Barn i Uppsala - ECPv5.1.6//NONSGML v1.0//EN
CALSCALE:GREGORIAN
METHOD:PUBLISH
X-WR-CALNAME:Arkiv för Barn i Uppsala
X-ORIGINAL-URL:https://arkiv.barniuppsala.se
X-WR-CALDESC:Händelser för Arkiv för Barn i Uppsala
BEGIN:VTIMEZONE
TZID:Europe/Stockholm
BEGIN:DAYLIGHT
TZOFFSETFROM:+0100
TZOFFSETTO:+0200
TZNAME:CEST
DTSTART:20190331T010000
END:DAYLIGHT
BEGIN:STANDARD
TZOFFSETFROM:+0200
TZOFFSETTO:+0100
TZNAME:CET
DTSTART:20191027T010000
END:STANDARD
END:VTIMEZONE
BEGIN:VEVENT
DTSTART;TZID=Europe/Stockholm:20190209T130000
DTEND;TZID=Europe/Stockholm:20190209T133000
DTSTAMP:20260420T160245
CREATED:20190124T090003Z
LAST-MODIFIED:20190404T081521Z
UID:31248-1549717200-1549719000@arkiv.barniuppsala.se
SUMMARY:Sagor på arabiska på Gottsundabiblioteket våren 2019 - INSTÄLLT
DESCRIPTION:Sagor på arabiska på Gottsundabiblioteket våren 2019 – INSTÄLLT\n\n\nFisal Al-Mohamed läser sagor på arabiska. \n\n\n\nDatum: Lördagar – 9 februari\, 9 mars\, 13 april – INSTÄLLT\, 11 maj – INSTÄLLT och 8 juni – INSTÄLLT 2019\nTid: 13.00\nPlats: Gottsundabiblioteket\nPris: Gratis \n  \n\n\nBesök gärna länkarna nedan (externa länkar öppnas i nytt fönster/flik).\n Gottsundabiblioteket | Fler event för dig med mer än ett språk \nBild: Pixabay \n0SHARESDela eventet
URL:https://arkiv.barniuppsala.se/event/sagor-arabiska-gottsundabiblioteket-vt19/2019-02-09/
LOCATION:Gottsundabiblioteket\, Valthornsvägen 11\, Uppsala\, 756 50\, Sverige
CATEGORIES:Barn,Bibliotek,Flerspråkighet,Sagostund – barn
ATTACH;FMTTYPE=image/jpeg:https://arkiv.barniuppsala.se/wp-content/uploads/2018/08/narrative-794978_1920-e1536596453799.jpg
ORGANIZER;CN="Gottsundabiblioteket":MAILTO:gottsundabiblioteket@uppsala.se
GEO:59.8093409;17.6295555
X-APPLE-STRUCTURED-LOCATION;VALUE=URI;X-ADDRESS=Gottsundabiblioteket Valthornsvägen 11 Uppsala 756 50 Sverige;X-APPLE-RADIUS=500;X-TITLE=Valthornsvägen 11:geo:17.6295555,59.8093409
END:VEVENT
END:VCALENDAR