BEGIN:VCALENDAR
VERSION:2.0
PRODID:-//Arkiv för Barn i Uppsala - ECPv5.1.6//NONSGML v1.0//EN
CALSCALE:GREGORIAN
METHOD:PUBLISH
X-WR-CALNAME:Arkiv för Barn i Uppsala
X-ORIGINAL-URL:https://arkiv.barniuppsala.se
X-WR-CALDESC:Händelser för Arkiv för Barn i Uppsala
BEGIN:VTIMEZONE
TZID:Europe/Stockholm
BEGIN:DAYLIGHT
TZOFFSETFROM:+0100
TZOFFSETTO:+0200
TZNAME:CEST
DTSTART:20180325T010000
END:DAYLIGHT
BEGIN:STANDARD
TZOFFSETFROM:+0200
TZOFFSETTO:+0100
TZNAME:CET
DTSTART:20181028T010000
END:STANDARD
END:VTIMEZONE
BEGIN:VEVENT
DTSTART;TZID=Europe/Stockholm:20180825T123000
DTEND;TZID=Europe/Stockholm:20180825T133000
DTSTAMP:20260420T112035
CREATED:20180824T092215Z
LAST-MODIFIED:20181108T110829Z
UID:22024-1535200200-1535203800@arkiv.barniuppsala.se
SUMMARY:Sagor på portugisiska på Uppsala Stadsbibliotek
DESCRIPTION:Sagor på portugisiska\nModersmålspedagogen Gabriella Teixeira läser sagor på portugisiska. För barn från 2 år. \nFri entré\, ingen föranmälan. \n\nTid och plats\nLördagar 11.30 (25/8\, 6/10\, 10/11) \nStadsbiblioteket\, Skattkammaren \n  \n\n  \nA professora de português como língua materna Gabriella Teixeira\, fará a contação de histórias para crianças a partir de 2 anos. \nA entrada é gratuita e não requer registro. \nNos sábados 25/8\, 6/10 e 10/11 às 11.30h \nTragam as crianças e participem desta agradável tarde cultural! \n  \n\n\nBesök gärna länkarna nedan (externa länkar öppnas i nytt fönster/flik).\nUppsala Stadsbibliotek | Fler event för dig med mer än ett språk \nBild: FictionChick @DeviantArt \n\n 0SHARESDela eventet
URL:https://arkiv.barniuppsala.se/event/sagor-pa-portugisiska-pa-uppsala-stadsbibliotek/2018-08-25/
LOCATION:Uppsala stadsbibliotek\, Svartbäcksgatan 17\, Uppsala\, 753 75\, Sverige
CATEGORIES:Barn,Bibliotek,Flerspråkighet,Sagostund – barn
ATTACH;FMTTYPE=image/jpeg:https://arkiv.barniuppsala.se/wp-content/uploads/2018/08/the_lure_of_a_book_by_fictionchick-d5fjtd9-e1536595725658.jpg
ORGANIZER;CN="Uppsala%20stadsbibliotek":MAILTO: stadsbibli.inf@uppsala.se
GEO:59.8606206;17.6353278
X-APPLE-STRUCTURED-LOCATION;VALUE=URI;X-ADDRESS=Uppsala stadsbibliotek Svartbäcksgatan 17 Uppsala 753 75 Sverige;X-APPLE-RADIUS=500;X-TITLE=Svartbäcksgatan 17:geo:17.6353278,59.8606206
END:VEVENT
END:VCALENDAR