BEGIN:VCALENDAR
VERSION:2.0
PRODID:-//Arkiv för Barn i Uppsala - ECPv5.1.6//NONSGML v1.0//EN
CALSCALE:GREGORIAN
METHOD:PUBLISH
X-WR-CALNAME:Arkiv för Barn i Uppsala
X-ORIGINAL-URL:https://arkiv.barniuppsala.se
X-WR-CALDESC:Händelser för Arkiv för Barn i Uppsala
BEGIN:VTIMEZONE
TZID:Europe/Stockholm
BEGIN:DAYLIGHT
TZOFFSETFROM:+0100
TZOFFSETTO:+0200
TZNAME:CEST
DTSTART:20170326T010000
END:DAYLIGHT
BEGIN:STANDARD
TZOFFSETFROM:+0200
TZOFFSETTO:+0100
TZNAME:CET
DTSTART:20171029T010000
END:STANDARD
END:VTIMEZONE
BEGIN:VEVENT
DTSTART;TZID=Europe/Stockholm:20170323T160000
DTEND;TZID=Europe/Stockholm:20170323T160000
DTSTAMP:20260421T085458
CREATED:20170308T080415Z
LAST-MODIFIED:20170508T102325Z
UID:11650-1490284800-1490284800@arkiv.barniuppsala.se
SUMMARY:Sagor på somaliska
DESCRIPTION:Sagor på somaliska kan du höra på Gottsundabiblioteket\, torsdagarna 23 mars\, 20 april och 18 maj. Alla tre gångerna börjar det kl 16. \nDet är Saida Aden Mohamud som läser sagor på somaliska för barn. \nIngen föranmälan\, det är bara att komma och lyssna. \nBild: pixabay.com. \n0SHARESDela eventet
URL:https://arkiv.barniuppsala.se/event/sagor-pa-somaliska/2017-03-23/
LOCATION:Gottsundabiblioteket\, Valthornsvägen 11\, Uppsala\, 756 50\, Sverige
CATEGORIES:Bibliotek,Sagostund – barn
ATTACH;FMTTYPE=image/jpeg:https://arkiv.barniuppsala.se/wp-content/uploads/2017/03/jorden.jpg
ORGANIZER;CN="Bibliotek%20Uppsala":MAILTO:kundtjanst@bibliotekuppsala.se
GEO:59.8093409;17.6295555
X-APPLE-STRUCTURED-LOCATION;VALUE=URI;X-ADDRESS=Gottsundabiblioteket Valthornsvägen 11 Uppsala 756 50 Sverige;X-APPLE-RADIUS=500;X-TITLE=Valthornsvägen 11:geo:17.6295555,59.8093409
END:VEVENT
END:VCALENDAR