BEGIN:VCALENDAR
VERSION:2.0
PRODID:-//Arkiv för Barn i Uppsala - ECPv5.1.6//NONSGML v1.0//EN
CALSCALE:GREGORIAN
METHOD:PUBLISH
X-WR-CALNAME:Arkiv för Barn i Uppsala
X-ORIGINAL-URL:https://arkiv.barniuppsala.se
X-WR-CALDESC:Händelser för Arkiv för Barn i Uppsala
BEGIN:VTIMEZONE
TZID:Europe/Stockholm
BEGIN:DAYLIGHT
TZOFFSETFROM:+0100
TZOFFSETTO:+0200
TZNAME:CEST
DTSTART:20180325T010000
END:DAYLIGHT
BEGIN:STANDARD
TZOFFSETFROM:+0200
TZOFFSETTO:+0100
TZNAME:CET
DTSTART:20181028T010000
END:STANDARD
END:VTIMEZONE
BEGIN:VEVENT
DTSTART;TZID=Europe/Stockholm:20180224T113000
DTEND;TZID=Europe/Stockholm:20180224T113000
DTSTAMP:20260420T191138
CREATED:20180112T124158Z
LAST-MODIFIED:20180112T124158Z
UID:17741-1519471800-1519471800@arkiv.barniuppsala.se
SUMMARY:Sagostund på arabiska
DESCRIPTION:Sagor på arabiska\n\n\nFisal Al Mohamed läser sagor för barn i alla åldrar. \n\n\n\nTid och plats\nLördagar 11.30 (24 februari\, 17 mars\, 7 april\, 12 maj) \nGottsundabiblioteket \nBild från pixabay.com \n\n 0SHARESDela eventet
URL:https://arkiv.barniuppsala.se/event/sagostund-pa-arabiska-2/2018-02-24/
LOCATION:Gottsundabiblioteket\, Valthornsvägen 11\, Uppsala\, 756 50\, Sverige
CATEGORIES:Barn,Bibliotek,Sagostund – barn
ATTACH;FMTTYPE=image/jpeg:https://arkiv.barniuppsala.se/wp-content/uploads/2018/01/apple-2938940_640.jpg
GEO:59.8093409;17.6295555
X-APPLE-STRUCTURED-LOCATION;VALUE=URI;X-ADDRESS=Gottsundabiblioteket Valthornsvägen 11 Uppsala 756 50 Sverige;X-APPLE-RADIUS=500;X-TITLE=Valthornsvägen 11:geo:17.6295555,59.8093409
END:VEVENT
END:VCALENDAR