BEGIN:VCALENDAR
VERSION:2.0
PRODID:-//Arkiv för Barn i Uppsala - ECPv5.1.6//NONSGML v1.0//EN
CALSCALE:GREGORIAN
METHOD:PUBLISH
X-WR-CALNAME:Arkiv för Barn i Uppsala
X-ORIGINAL-URL:https://arkiv.barniuppsala.se
X-WR-CALDESC:Händelser för Arkiv för Barn i Uppsala
BEGIN:VTIMEZONE
TZID:Europe/Stockholm
BEGIN:DAYLIGHT
TZOFFSETFROM:+0100
TZOFFSETTO:+0200
TZNAME:CEST
DTSTART:20150329T010000
END:DAYLIGHT
BEGIN:STANDARD
TZOFFSETFROM:+0200
TZOFFSETTO:+0100
TZNAME:CET
DTSTART:20151025T010000
END:STANDARD
END:VTIMEZONE
BEGIN:VEVENT
DTSTART;TZID=Europe/Stockholm:20151001T110000
DTEND;TZID=Europe/Stockholm:20151001T120000
DTSTAMP:20260421T095825
CREATED:20150901T115437Z
LAST-MODIFIED:20150901T115437Z
UID:3468-1443697200-1443700800@arkiv.barniuppsala.se
SUMMARY:Sagostund på Brantingsbiblioteket
DESCRIPTION:Paula läser sagor för barn 3-5 år. \n0SHARESDela eventet
URL:https://arkiv.barniuppsala.se/event/sagostund-pa-brantingsbiblioteket-2/
LOCATION:Brantingsbiblioteket\, Brantingstorg 5\, 754 34
CATEGORIES:Sagostund – barn
ATTACH;FMTTYPE=image/jpeg:https://arkiv.barniuppsala.se/wp-content/uploads/2015/09/Noshörning.jpg
END:VEVENT
END:VCALENDAR