BEGIN:VCALENDAR
VERSION:2.0
PRODID:-//Arkiv för Barn i Uppsala - ECPv5.1.6//NONSGML v1.0//EN
CALSCALE:GREGORIAN
METHOD:PUBLISH
X-WR-CALNAME:Arkiv för Barn i Uppsala
X-ORIGINAL-URL:https://arkiv.barniuppsala.se
X-WR-CALDESC:Händelser för Arkiv för Barn i Uppsala
BEGIN:VTIMEZONE
TZID:Europe/Stockholm
BEGIN:DAYLIGHT
TZOFFSETFROM:+0100
TZOFFSETTO:+0200
TZNAME:CEST
DTSTART:20150329T010000
END:DAYLIGHT
BEGIN:STANDARD
TZOFFSETFROM:+0200
TZOFFSETTO:+0100
TZNAME:CET
DTSTART:20151025T010000
END:STANDARD
END:VTIMEZONE
BEGIN:VEVENT
DTSTART;TZID=Europe/Stockholm:20151201T093000
DTEND;TZID=Europe/Stockholm:20151201T093000
DTSTAMP:20260422T160832
CREATED:20150925T074517Z
LAST-MODIFIED:20151123T165854Z
UID:3849-1448962200-1448962200@arkiv.barniuppsala.se
SUMMARY:Sagostund på Eriksbergsbiblioteket
DESCRIPTION:Sagostund på Eriksbergsbiblioteket tisdag 1 december kl. 9.30. \nDen här gången läses sagor om resor till fjärran länder. För barn 3–5 år. \nFöranmälan för förskolegrupper på telefon 018-727 54 38. \nBild: pixabay.com. \n0SHARESDela eventet
URL:https://arkiv.barniuppsala.se/event/sagostund-pa-eriksbergsbiblioteket-3/
LOCATION:Eriksbergsbiblioteket\, Granitvägen 14\, Uppsala\, 752 43\, Sverige
CATEGORIES:Sagostund – barn
ATTACH;FMTTYPE=image/jpeg:https://arkiv.barniuppsala.se/wp-content/uploads/2015/09/läsnalle.jpg
GEO:59.8402279;17.6004145
X-APPLE-STRUCTURED-LOCATION;VALUE=URI;X-ADDRESS=Eriksbergsbiblioteket Granitvägen 14 Uppsala 752 43 Sverige;X-APPLE-RADIUS=500;X-TITLE=Granitvägen 14:geo:17.6004145,59.8402279
END:VEVENT
END:VCALENDAR