BEGIN:VCALENDAR
VERSION:2.0
PRODID:-//Arkiv för Barn i Uppsala - ECPv5.1.6//NONSGML v1.0//EN
CALSCALE:GREGORIAN
METHOD:PUBLISH
X-WR-CALNAME:Arkiv för Barn i Uppsala
X-ORIGINAL-URL:https://arkiv.barniuppsala.se
X-WR-CALDESC:Händelser för Arkiv för Barn i Uppsala
BEGIN:VTIMEZONE
TZID:Europe/Stockholm
BEGIN:DAYLIGHT
TZOFFSETFROM:+0100
TZOFFSETTO:+0200
TZNAME:CEST
DTSTART:20180325T010000
END:DAYLIGHT
BEGIN:STANDARD
TZOFFSETFROM:+0200
TZOFFSETTO:+0100
TZNAME:CET
DTSTART:20181028T010000
END:STANDARD
END:VTIMEZONE
BEGIN:VEVENT
DTSTART;TZID=Europe/Stockholm:20180213T093000
DTEND;TZID=Europe/Stockholm:20180213T093000
DTSTAMP:20260420T200503
CREATED:20180112T122631Z
LAST-MODIFIED:20180112T122827Z
UID:17733-1518514200-1518514200@arkiv.barniuppsala.se
SUMMARY:Sagostund på Eriksbergsbiblioteket
DESCRIPTION:Sagostund på Eriksbergsbiblioteket\n\n\nFrida Runhagen läser sagor för barn 3–5 år. Syskon är välkomna! \n\n\n\nFöranmälan till biblioteket. \nTid och plats\nTisdagar 9.30 (13 februari\, 13 mars\, 10 april) \nEriksbergsbiblioteket \nBild från pixabay.com \n\n 0SHARESDela eventet
URL:https://arkiv.barniuppsala.se/event/sagostund-pa-eriksbergsbiblioteket-4/2018-02-13/
LOCATION:Eriksbergsbiblioteket\, Granitvägen 14\, Uppsala\, 752 43\, Sverige
CATEGORIES:Barn,Bibliotek,Sagostund – barn
ATTACH;FMTTYPE=image/png:https://arkiv.barniuppsala.se/wp-content/uploads/2018/01/anthropomorphic-2025127_640.png
ORGANIZER;CN="Eriksbergsbiblioteket":MAILTO:eriksbergsbiblioteket@uppsala.se
GEO:59.8402279;17.6004145
X-APPLE-STRUCTURED-LOCATION;VALUE=URI;X-ADDRESS=Eriksbergsbiblioteket Granitvägen 14 Uppsala 752 43 Sverige;X-APPLE-RADIUS=500;X-TITLE=Granitvägen 14:geo:17.6004145,59.8402279
END:VEVENT
END:VCALENDAR