BEGIN:VCALENDAR
VERSION:2.0
PRODID:-//Arkiv för Barn i Uppsala - ECPv5.1.6//NONSGML v1.0//EN
CALSCALE:GREGORIAN
METHOD:PUBLISH
X-WR-CALNAME:Arkiv för Barn i Uppsala
X-ORIGINAL-URL:https://arkiv.barniuppsala.se
X-WR-CALDESC:Händelser för Arkiv för Barn i Uppsala
BEGIN:VTIMEZONE
TZID:Europe/Stockholm
BEGIN:DAYLIGHT
TZOFFSETFROM:+0100
TZOFFSETTO:+0200
TZNAME:CEST
DTSTART:20150329T010000
END:DAYLIGHT
BEGIN:STANDARD
TZOFFSETFROM:+0200
TZOFFSETTO:+0100
TZNAME:CET
DTSTART:20151025T010000
END:STANDARD
END:VTIMEZONE
BEGIN:VEVENT
DTSTART;TZID=Europe/Stockholm:20151006T103000
DTEND;TZID=Europe/Stockholm:20150925T010000
DTSTAMP:20260420T061526
CREATED:20150925T073428Z
LAST-MODIFIED:20150925T073428Z
UID:3847-1444127400-1443142800@arkiv.barniuppsala.se
SUMMARY:Sagostund på Eriksbergsbiblioteket
DESCRIPTION:Tisdagar kl. 9.30. 2015-10-06. Sagostund på Eriksbergsbiblioteket . Tisdagar kl 9.30 (6/10\, 3/11\, 1/12) Vi läser och berättar\, för barn 3–5 år. Föranmälan. \n0SHARESDela eventet
URL:https://arkiv.barniuppsala.se/event/sagostund-pa-eriksbergsbiblioteket/
LOCATION:Eriksbergsbiblioteket\, Granitvägen 14\, Uppsala\, 752 43\, Sverige
CATEGORIES:Sagostund – barn
GEO:59.8402279;17.6004145
X-APPLE-STRUCTURED-LOCATION;VALUE=URI;X-ADDRESS=Eriksbergsbiblioteket Granitvägen 14 Uppsala 752 43 Sverige;X-APPLE-RADIUS=500;X-TITLE=Granitvägen 14:geo:17.6004145,59.8402279
END:VEVENT
END:VCALENDAR