BEGIN:VCALENDAR
VERSION:2.0
PRODID:-//Arkiv för Barn i Uppsala - ECPv5.1.6//NONSGML v1.0//EN
CALSCALE:GREGORIAN
METHOD:PUBLISH
X-WR-CALNAME:Arkiv för Barn i Uppsala
X-ORIGINAL-URL:https://arkiv.barniuppsala.se
X-WR-CALDESC:Händelser för Arkiv för Barn i Uppsala
BEGIN:VTIMEZONE
TZID:Europe/Stockholm
BEGIN:DAYLIGHT
TZOFFSETFROM:+0100
TZOFFSETTO:+0200
TZNAME:CEST
DTSTART:20150329T010000
END:DAYLIGHT
BEGIN:STANDARD
TZOFFSETFROM:+0200
TZOFFSETTO:+0100
TZNAME:CET
DTSTART:20151025T010000
END:STANDARD
END:VTIMEZONE
BEGIN:VEVENT
DTSTART;TZID=Europe/Stockholm:20151003T121500
DTEND;TZID=Europe/Stockholm:20151003T133000
DTSTAMP:20260420T152226
CREATED:20150908T121146Z
LAST-MODIFIED:20150908T122811Z
UID:3675-1443874500-1443879000@arkiv.barniuppsala.se
SUMMARY:Sagostund på finska (barn från 2-6 år)
DESCRIPTION:Läsare: Tuuli Uljas (från Rusukki) \nFör barn 2-6 år \nLokal: Skattkammaren \nInga biljetter. Ingen föranmälan \nSamarrangemang med RUSUKKI\, Sverigefinnarnas språk- och kulturförening i Uppsala. \n0SHARESDela eventet
URL:https://arkiv.barniuppsala.se/event/sagostund-pa-finska-barn-fran-2-6-ar/
LOCATION:Stadsbiblioteket\, Svartbäcksgatan 17\, Uppsala\, 753 75 \, Sverige
CATEGORIES:Sagostund – barn
ORGANIZER;CN="Uppsala%20stadsbibliotek":MAILTO: stadsbibli.inf@uppsala.se
GEO:59.8606206;17.6353278
X-APPLE-STRUCTURED-LOCATION;VALUE=URI;X-ADDRESS=Stadsbiblioteket Svartbäcksgatan 17 Uppsala 753 75  Sverige;X-APPLE-RADIUS=500;X-TITLE=Svartbäcksgatan 17:geo:17.6353278,59.8606206
END:VEVENT
END:VCALENDAR