BEGIN:VCALENDAR
VERSION:2.0
PRODID:-//Arkiv för Barn i Uppsala - ECPv5.1.6//NONSGML v1.0//EN
CALSCALE:GREGORIAN
METHOD:PUBLISH
X-WR-CALNAME:Arkiv för Barn i Uppsala
X-ORIGINAL-URL:https://arkiv.barniuppsala.se
X-WR-CALDESC:Händelser för Arkiv för Barn i Uppsala
BEGIN:VTIMEZONE
TZID:Europe/Stockholm
BEGIN:DAYLIGHT
TZOFFSETFROM:+0100
TZOFFSETTO:+0200
TZNAME:CEST
DTSTART:20150329T010000
END:DAYLIGHT
BEGIN:STANDARD
TZOFFSETFROM:+0200
TZOFFSETTO:+0100
TZNAME:CET
DTSTART:20151025T010000
END:STANDARD
END:VTIMEZONE
BEGIN:VEVENT
DTSTART;TZID=Europe/Stockholm:20151210T101500
DTEND;TZID=Europe/Stockholm:20151210T110000
DTSTAMP:20260422T003433
CREATED:20150901T081611Z
LAST-MODIFIED:20151207T085256Z
UID:3412-1449742500-1449745200@arkiv.barniuppsala.se
SUMMARY:Sagostund på Gottsundabiblioteket
DESCRIPTION:Torsdagar händer det på Gottsundabiblioteket! \nTorsdag 10 december läses tre böcker och efteråt får barnen rösta på den bok de gillade mest. Den vinnande boken kommer att spelas som teaterpjäs på Gottsunda dans och teater i vår som förskolorna självklart är välkomna att anmäla sig till. \nAllmänheten behöver inte boka i förväg. \n0SHARESDela eventet
URL:https://arkiv.barniuppsala.se/event/sagostund-pa-gottsundabiblioteket-14/
LOCATION:Gottsundabiblioteket\, Valthornsvägen 11\, Uppsala\, 756 50\, Sverige
CATEGORIES:Sagostund – barn
ATTACH;FMTTYPE=image/jpeg:https://arkiv.barniuppsala.se/wp-content/uploads/2015/08/Sagostund.jpg
ORGANIZER;CN="Bibliotek%20Uppsala":MAILTO:kundtjanst@bibliotekuppsala.se
GEO:59.8093409;17.6295555
X-APPLE-STRUCTURED-LOCATION;VALUE=URI;X-ADDRESS=Gottsundabiblioteket Valthornsvägen 11 Uppsala 756 50 Sverige;X-APPLE-RADIUS=500;X-TITLE=Valthornsvägen 11:geo:17.6295555,59.8093409
END:VEVENT
END:VCALENDAR