BEGIN:VCALENDAR
VERSION:2.0
PRODID:-//Arkiv för Barn i Uppsala - ECPv5.1.6//NONSGML v1.0//EN
CALSCALE:GREGORIAN
METHOD:PUBLISH
X-WR-CALNAME:Arkiv för Barn i Uppsala
X-ORIGINAL-URL:https://arkiv.barniuppsala.se
X-WR-CALDESC:Händelser för Arkiv för Barn i Uppsala
BEGIN:VTIMEZONE
TZID:Europe/Stockholm
BEGIN:DAYLIGHT
TZOFFSETFROM:+0100
TZOFFSETTO:+0200
TZNAME:CEST
DTSTART:20160327T010000
END:DAYLIGHT
BEGIN:STANDARD
TZOFFSETFROM:+0200
TZOFFSETTO:+0100
TZNAME:CET
DTSTART:20161030T010000
END:STANDARD
END:VTIMEZONE
BEGIN:VEVENT
DTSTART;TZID=Europe/Stockholm:20161027T153000
DTEND;TZID=Europe/Stockholm:20161027T153000
DTSTAMP:20260421T004313
CREATED:20161012T105509Z
LAST-MODIFIED:20161012T105811Z
UID:8616-1477582200-1477582200@arkiv.barniuppsala.se
SUMMARY:Sagostund på Internationella nalledagen
DESCRIPTION:Sagostund på Internationella nalledagen för barn 2-6 år. \nKom och var med och fira internationella nalledagen! Då kan du också passa på att fira att Nalle Puh och Bamse som fyller jämnt i år. \nTa gärna med ditt eget gosedjur\, som du såklart tar med dig hem igen efter sagostunden och biblioteksbesöket. \nHåbo bibliotek i Bålsta torsdag 27 oktober kl 14.30. Gratis! \nBild: flickr.com. \n0SHARESDela eventet
URL:https://arkiv.barniuppsala.se/event/sagostund-pa-internationella-nalledagen/
LOCATION:Håbo bibliotek\, Centrumleden 5\, Bålsta\, 74632
CATEGORIES:Bibliotek,Sagostund – barn
ATTACH;FMTTYPE=image/jpeg:https://arkiv.barniuppsala.se/wp-content/uploads/2016/10/nallar_grupp.jpg
GEO:59.568753;17.5290192
X-APPLE-STRUCTURED-LOCATION;VALUE=URI;X-ADDRESS=Håbo bibliotek Centrumleden 5 Bålsta 74632;X-APPLE-RADIUS=500;X-TITLE=Centrumleden 5:geo:17.5290192,59.568753
END:VEVENT
END:VCALENDAR