BEGIN:VCALENDAR
VERSION:2.0
PRODID:-//Arkiv för Barn i Uppsala - ECPv5.1.6//NONSGML v1.0//EN
CALSCALE:GREGORIAN
METHOD:PUBLISH
X-WR-CALNAME:Arkiv för Barn i Uppsala
X-ORIGINAL-URL:https://arkiv.barniuppsala.se
X-WR-CALDESC:Händelser för Arkiv för Barn i Uppsala
BEGIN:VTIMEZONE
TZID:Europe/Stockholm
BEGIN:DAYLIGHT
TZOFFSETFROM:+0100
TZOFFSETTO:+0200
TZNAME:CEST
DTSTART:20180325T010000
END:DAYLIGHT
BEGIN:STANDARD
TZOFFSETFROM:+0200
TZOFFSETTO:+0100
TZNAME:CET
DTSTART:20181028T010000
END:STANDARD
END:VTIMEZONE
BEGIN:VEVENT
DTSTART;TZID=Europe/Stockholm:20180210T113000
DTEND;TZID=Europe/Stockholm:20180210T113000
DTSTAMP:20260420T140543
CREATED:20180112T091713Z
LAST-MODIFIED:20180112T091713Z
UID:17686-1518262200-1518262200@arkiv.barniuppsala.se
SUMMARY:Sagostund på portugisiska
DESCRIPTION:Sagostund på portugisiska\n\n\nGabriella Teixeira läser sagor på portugisiska. För barn från 2 år. \nA professora de português como língua materna Gabriella Teixeira\, fará a contação de histórias para crianças a partir de 2 anos. \n\n\n\nA entrada é gratuita e não requer registro. \nNos sábados 10/2\, 17/3 e 28/4 às 11.30h\nLocal: Skattkammaren. \nTragam as crianças e participem desta agradável tarde cultural! \nTid och plats\nLördagar 11.30 (10 februari\, 17 mars\, 28 april) \nStadsbiblioteket\, Skattkammaren \nBild från pixabay.com \n\n 0SHARESDela eventet
URL:https://arkiv.barniuppsala.se/event/sagostund-pa-portugisiska-2/2018-02-10/
LOCATION:Uppsala stadsbibliotek\, Svartbäcksgatan 17\, Uppsala\, 753 75\, Sverige
CATEGORIES:Barn,Bibliotek,Sagostund – barn
ATTACH;FMTTYPE=image/jpeg:https://arkiv.barniuppsala.se/wp-content/uploads/2018/01/spring-2920471_640.jpg
ORGANIZER;CN="Uppsala%20stadsbibliotek":MAILTO: stadsbibli.inf@uppsala.se
GEO:59.8606206;17.6353278
X-APPLE-STRUCTURED-LOCATION;VALUE=URI;X-ADDRESS=Uppsala stadsbibliotek Svartbäcksgatan 17 Uppsala 753 75 Sverige;X-APPLE-RADIUS=500;X-TITLE=Svartbäcksgatan 17:geo:17.6353278,59.8606206
END:VEVENT
END:VCALENDAR