BEGIN:VCALENDAR
VERSION:2.0
PRODID:-//Arkiv för Barn i Uppsala - ECPv5.1.6//NONSGML v1.0//EN
CALSCALE:GREGORIAN
METHOD:PUBLISH
X-WR-CALNAME:Arkiv för Barn i Uppsala
X-ORIGINAL-URL:https://arkiv.barniuppsala.se
X-WR-CALDESC:Händelser för Arkiv för Barn i Uppsala
BEGIN:VTIMEZONE
TZID:Europe/Stockholm
BEGIN:DAYLIGHT
TZOFFSETFROM:+0100
TZOFFSETTO:+0200
TZNAME:CEST
DTSTART:20180325T010000
END:DAYLIGHT
BEGIN:STANDARD
TZOFFSETFROM:+0200
TZOFFSETTO:+0100
TZNAME:CET
DTSTART:20181028T010000
END:STANDARD
END:VTIMEZONE
BEGIN:VEVENT
DTSTART;TZID=Europe/Stockholm:20180213T100000
DTEND;TZID=Europe/Stockholm:20180213T100000
DTSTAMP:20260420T215409
CREATED:20180112T102128Z
LAST-MODIFIED:20180112T102128Z
UID:17700-1518516000-1518516000@arkiv.barniuppsala.se
SUMMARY:Sagoväskan på Stenhagenbiblioteket
DESCRIPTION:Sagoväskan\n\n\nKom och öppna sagoväskan. \n\n\n\nFör barn 3–5 år. Förskolor bokar plats\, ingen föranmälan annars. \nTid och plats \nTisdag 13 februari 10.00 \nStenhagenbiblioteket \nBild från pixabay.com \n\n 0SHARESDela eventet
URL:https://arkiv.barniuppsala.se/event/sagovaskan-pa-stenhagenbiblioteket/2018-02-13/
LOCATION:Stenhagenbiblioteket\, Herrhagsvägen 8\, Uppsala\, 752 67 
CATEGORIES:Barn,Bibliotek,Sagostund – barn
ATTACH;FMTTYPE=image/jpeg:https://arkiv.barniuppsala.se/wp-content/uploads/2018/01/watercolour-2069802_640.jpg
ORGANIZER;CN="Stenhagenbiblioteket":MAILTO:stenhagenbiblioteket@uppsala.se
GEO:59.8505374;17.5582115
X-APPLE-STRUCTURED-LOCATION;VALUE=URI;X-ADDRESS=Stenhagenbiblioteket Herrhagsvägen 8 Uppsala 752 67;X-APPLE-RADIUS=500;X-TITLE=Herrhagsvägen 8:geo:17.5582115,59.8505374
END:VEVENT
END:VCALENDAR