BEGIN:VCALENDAR
VERSION:2.0
PRODID:-//Arkiv för Barn i Uppsala - ECPv5.1.6//NONSGML v1.0//EN
CALSCALE:GREGORIAN
METHOD:PUBLISH
X-WR-CALNAME:Arkiv för Barn i Uppsala
X-ORIGINAL-URL:https://arkiv.barniuppsala.se
X-WR-CALDESC:Händelser för Arkiv för Barn i Uppsala
BEGIN:VTIMEZONE
TZID:Europe/Stockholm
BEGIN:DAYLIGHT
TZOFFSETFROM:+0100
TZOFFSETTO:+0200
TZNAME:CEST
DTSTART:20160327T010000
END:DAYLIGHT
BEGIN:STANDARD
TZOFFSETFROM:+0200
TZOFFSETTO:+0100
TZNAME:CET
DTSTART:20161030T010000
END:STANDARD
END:VTIMEZONE
BEGIN:VEVENT
DTSTART;TZID=Europe/Stockholm:20161112T103000
DTEND;TZID=Europe/Stockholm:20161112T120000
DTSTAMP:20260420T222400
CREATED:20161107T102112Z
LAST-MODIFIED:20161107T102112Z
UID:9175-1478946600-1478952000@arkiv.barniuppsala.se
SUMMARY:Sagoverkstán
DESCRIPTION:Följ med på ett äventyr i sagoskogen! Träffa sagofigurerna och hjälp dem att lösa ett uppdrag! Med drama\, musik och skapande får ni alla vara med på äventyret. \nÅldersgrupp: Från 3 år. \n\nTid: Lördag 12 november kl 10.30-12.00 \nPlats: Tierps bibliotek \nBoka plats via biblioteket: 0293-21 82 60. \nArr: Kulturskolan \n\n 0SHARESDela eventet
URL:https://arkiv.barniuppsala.se/event/sagoverkstan/
LOCATION:Tierps bibliotek\, Grevegatan 19\, Tierp\, 815 23
ATTACH;FMTTYPE=image/jpeg:https://arkiv.barniuppsala.se/wp-content/uploads/2016/10/Tierps-bibliotek_webb.jpg
GEO:60.3458867;17.5147166
X-APPLE-STRUCTURED-LOCATION;VALUE=URI;X-ADDRESS=Tierps bibliotek Grevegatan 19 Tierp 815 23;X-APPLE-RADIUS=500;X-TITLE=Grevegatan 19:geo:17.5147166,60.3458867
END:VEVENT
END:VCALENDAR