BEGIN:VCALENDAR
VERSION:2.0
PRODID:-//Arkiv för Barn i Uppsala - ECPv5.1.6//NONSGML v1.0//EN
CALSCALE:GREGORIAN
METHOD:PUBLISH
X-WR-CALNAME:Arkiv för Barn i Uppsala
X-ORIGINAL-URL:https://arkiv.barniuppsala.se
X-WR-CALDESC:Händelser för Arkiv för Barn i Uppsala
BEGIN:VTIMEZONE
TZID:Europe/Stockholm
BEGIN:DAYLIGHT
TZOFFSETFROM:+0100
TZOFFSETTO:+0200
TZNAME:CEST
DTSTART:20160327T010000
END:DAYLIGHT
BEGIN:STANDARD
TZOFFSETFROM:+0200
TZOFFSETTO:+0100
TZNAME:CET
DTSTART:20161030T010000
END:STANDARD
END:VTIMEZONE
BEGIN:VEVENT
DTSTART;TZID=Europe/Stockholm:20160416T120000
DTEND;TZID=Europe/Stockholm:20160407T010000
DTSTAMP:20260420T020727
CREATED:20160407T115249Z
LAST-MODIFIED:20160407T115249Z
UID:6632-1460808000-1459990800@arkiv.barniuppsala.se
SUMMARY:Sagoyoga på Storvretabibblan
DESCRIPTION:Sagoyoga på Storvretabibblan med Marika Andersson\, lördag 16 april kl 11. \nBarnen gör olika yogaställningar\, rörelser och lek till en saga\, där de spännande händelserna inspirerar.\nGenom yogalek får barnen komma i kontakt med sina kroppar och sin andning. Barnen får övning i koncentration\, koordination och avslappning. \nMan använder yogaställningar tillsammans med sagor\, musik\, berättande och kreativa övningar. \nFör barn 4-7 år. Begränsat antal deltagare\, föranmälan till biblioteket telefon 018-727 67 33 eller maila storvretabiblioteket@uppsala.se. \nBild: pixabay.com. \n0SHARESDela eventet
URL:https://arkiv.barniuppsala.se/event/sagoyoga-pa-storvretabibblan/
LOCATION:Storvretabiblioteket\, Fullerövägen 1\, Storvreta\, 743 32\, Sverige
CATEGORIES:Sagostund – barn
ATTACH;FMTTYPE=image/jpeg:https://arkiv.barniuppsala.se/wp-content/uploads/2016/01/sagoyoga_grodor.jpg
ORGANIZER;CN="Bibliotek%20Uppsala":MAILTO:kundtjanst@bibliotekuppsala.se
GEO:59.960157;17.7033815
X-APPLE-STRUCTURED-LOCATION;VALUE=URI;X-ADDRESS=Storvretabiblioteket Fullerövägen 1 Storvreta 743 32 Sverige;X-APPLE-RADIUS=500;X-TITLE=Fullerövägen 1:geo:17.7033815,59.960157
END:VEVENT
END:VCALENDAR