BEGIN:VCALENDAR
VERSION:2.0
PRODID:-//Arkiv för Barn i Uppsala - ECPv5.1.6//NONSGML v1.0//EN
CALSCALE:GREGORIAN
METHOD:PUBLISH
X-WR-CALNAME:Arkiv för Barn i Uppsala
X-ORIGINAL-URL:https://arkiv.barniuppsala.se
X-WR-CALDESC:Händelser för Arkiv för Barn i Uppsala
BEGIN:VTIMEZONE
TZID:Europe/Stockholm
BEGIN:DAYLIGHT
TZOFFSETFROM:+0100
TZOFFSETTO:+0200
TZNAME:CEST
DTSTART:20180325T010000
END:DAYLIGHT
BEGIN:STANDARD
TZOFFSETFROM:+0200
TZOFFSETTO:+0100
TZNAME:CET
DTSTART:20181028T010000
END:STANDARD
END:VTIMEZONE
BEGIN:VEVENT
DTSTART;TZID=Europe/Stockholm:20180719T193000
DTEND;TZID=Europe/Stockholm:20180719T213000
DTSTAMP:20260421T215603
CREATED:20180719T110021Z
LAST-MODIFIED:20180719T110021Z
UID:21312-1532028600-1532035800@arkiv.barniuppsala.se
SUMMARY:Sambakväll i Källparken
DESCRIPTION:Sambakväll i Källparken\nMissa inte slagverksorkestern Samba São Miguel och dansgruppen Delirio do Samba när de tar plats på amfiteaterns scen i denna sambakväll – med heta sambarytmer bjuder de Uppsalaborna upp till dans! \nSamba São Miguel är ett gäng energiska trumslagare och Delirio do Samba är en färgsprakande dansgrupp som tillsammans framför medryckande rytmer och dans från Brasilien! \nSlagverksorkestern har sina rötter i Mora men har sedan flera år tillbaka varit verksamma i Uppsala\, liksom dansgruppen\, och båda sprider sprudlande karnevalsstämning i staden. De uppträder regelbundet på studentgasker\, disputationsfester och bröllop men även på karnevaler både i Sverige och utomlands. \nUnder besöket i Källparken får besökarna uppleva den festliga och dansanta sambamusiken och BARN har även möjlighet att själva testa att spela tillsammans med baterian eller dansa tillsammans med dansarna. \nEn kväll för alla! För vuxna\, studenter\, familjer såväl som BARN. Have fun! \nPlats:\nAmfiteatern Källparken \nTid:\nkl 18.30-20.30 19 juli \n  \nMer information hittar du via den här länken! \nBild hämtad från Facebook \n0SHARESDela eventet
URL:https://arkiv.barniuppsala.se/event/sambakvall-i-kallparken/
LOCATION:Källparken\, Källparksgatan\, Uppsala\, 75434\, Sverige
CATEGORIES:Barn,Teater och Bio,Uppvisning,Utomhusaktivitet
ATTACH;FMTTYPE=image/jpeg:https://arkiv.barniuppsala.se/wp-content/uploads/2018/07/Uppsala-Samba-e1532000066257.jpg
ORGANIZER;CN="Samba%20S%C3%A3o%20Miguel":MAILTO:bateria@sambasaomiguel.se
GEO:59.869535;17.674639
X-APPLE-STRUCTURED-LOCATION;VALUE=URI;X-ADDRESS=Källparken Källparksgatan Uppsala 75434 Sverige;X-APPLE-RADIUS=500;X-TITLE=Källparksgatan:geo:17.674639,59.869535
END:VEVENT
END:VCALENDAR