BEGIN:VCALENDAR
VERSION:2.0
PRODID:-//Arkiv för Barn i Uppsala - ECPv5.1.6//NONSGML v1.0//EN
CALSCALE:GREGORIAN
METHOD:PUBLISH
X-WR-CALNAME:Arkiv för Barn i Uppsala
X-ORIGINAL-URL:https://arkiv.barniuppsala.se
X-WR-CALDESC:Händelser för Arkiv för Barn i Uppsala
BEGIN:VTIMEZONE
TZID:Europe/Stockholm
BEGIN:DAYLIGHT
TZOFFSETFROM:+0100
TZOFFSETTO:+0200
TZNAME:CEST
DTSTART:20190331T010000
END:DAYLIGHT
BEGIN:STANDARD
TZOFFSETFROM:+0200
TZOFFSETTO:+0100
TZNAME:CET
DTSTART:20191027T010000
END:STANDARD
END:VTIMEZONE
BEGIN:VEVENT
DTSTART;TZID=Europe/Stockholm:20190409T190000
DTEND;TZID=Europe/Stockholm:20190409T200000
DTSTAMP:20260421T092856
CREATED:20190408T084957Z
LAST-MODIFIED:20190408T084957Z
UID:34052-1554836400-1554840000@arkiv.barniuppsala.se
SUMMARY:Samtal: Gerillastickning | Tema: Maskulinitet
DESCRIPTION:Samtal: Gerillastickning | Tema: Maskulinitet\nSamtal .— Ta med dig din stickning till ett intressant samtal med stickgurun Cherif Kanngo och Frida Arnqvist Engström som skrivit boken Gerillaslöjd. Ett samtal om slöjd som politik\, genus och craftivism. Även nybörjare är välkomna. Har du fastnat i ditt stickande kan vi hjälpa dig loss. \nDatum: Tisdagen 9 april 2019\nTid: 18.00\nPlats: Uppsala Stadsbibliotek\, Mallas sal\nPris: Fri Entré \n\nCherif Kanngo\nStickguru från Uppsala som besöker Stadsbiblioteket för en stickföreläsning.\n“Alla reagerar positivt på att jag stickar. Särskilt när jag går i garnbutiker. Då är det jag och alla tanter där. Hantverk har inget kön och för mig är stickning ett hantverk. Och det är ingenting du föds med. Det är det man älskar med det här. Det är någonting man tränar på och blir bättre på och som vem som helst kan träna upp.” \nFrida Arnqvist Engström\nGerillaslöjd är ett sätt att förändra världen med händerna. Det är en global rörelse av craftivister\, garngraffititaggare och radikalbrodöser som alla använder sina händer för att kanalisera sina åsikter. När jag föreläser kallar jag dessa görare för gerillaslöjdare\, ett uttryck som jag myntat. Det handlar om slöjd som sätts upp i det offentliga rummet\, som blir till utropstecken på stan\, som lämnar spår av tankar från dess avsändare – med en önskan om kommunikation. \nCraftivism \nBegreppet Craftivism myntades av den amerikanska sociologen Betsy Greer 2003\, hennes definition löd: ”Craftivism är ett sätt att se på livet där uttryckta åsikter genom kreativitet gör din röst starkare\, ditt deltagande djupare och din jakt på rättvisa mer oändlig. \nCraftivism är en term för politiskt hantverk. Det är en global rörelse som förenar hantverk och aktivism. Ordet Crafivism är en sammanslagning av engelskans ord för slöjd och aktivism\, craft och activism. En utövare av Craftivism kallas craftivist.\n \nSamarrangör : Centrum för genusvetenskap\, Uppsala Universitet \n\nBesök gärna följande länkar nedan (extern länk öppnas i nytt fönster/flik)\nEvent inom genus 2019  | Stadsbiblioteket | Centrum för genusvetenskap \nBild: Pixabay \n0SHARESDela eventet
URL:https://arkiv.barniuppsala.se/event/samtal-gerillastickning-maskulinitet/
LOCATION:Uppsala stadsbibliotek\, Svartbäcksgatan 17\, Uppsala\, 753 75\, Sverige
CATEGORIES:Bibliotek,Föreläsning och Kurs,Genus,Samhälle,Skapande och Kreativitet,Ungdom
ATTACH;FMTTYPE=image/jpeg:https://arkiv.barniuppsala.se/wp-content/uploads/2019/03/knitted-233772_1920-e1552552173497.jpg
ORGANIZER;CN="Uppsala%20stadsbibliotek":MAILTO: stadsbibli.inf@uppsala.se
GEO:59.8606206;17.6353278
X-APPLE-STRUCTURED-LOCATION;VALUE=URI;X-ADDRESS=Uppsala stadsbibliotek Svartbäcksgatan 17 Uppsala 753 75 Sverige;X-APPLE-RADIUS=500;X-TITLE=Svartbäcksgatan 17:geo:17.6353278,59.8606206
END:VEVENT
END:VCALENDAR